BEGIN:VCALENDAR
VERSION:2.0
PRODID:-//ChamberMaster//Event Calendar 2.0//EN
METHOD:PUBLISH
X-PUBLISHED-TTL:P3D
REFRESH-INTERVAL:P3D
CALSCALE:GREGORIAN
BEGIN:VEVENT
DTSTART:20130714T150000Z
DTEND:20130714T200000Z
X-MICROSOFT-CDO-ALLDAYEVENT:FALSE
SUMMARY:Elmhurst Garden Walk and Faire
DESCRIPTION:Tour 7 private gardens\, an Arts & Crafts Boutique\, and Deli Lunch & Art Show at Wilder Mansion.
X-ALT-DESC;FMTTYPE=text/html:<div style="color: gray\;">\n	Tour&nbsp\;7 private gardens\, an Arts &amp\; Crafts Boutique\, and Deli Lunch &amp\; Art Show at Wilder Mansion.</div>\n
LOCATION:Wilder Mansion Elmhurst
UID:e.333.5257
SEQUENCE:3
DTSTAMP:20260422T151824Z
URL:https://chambermaster.elmhurstchamber.org/events/details/elmhurst-garden-walk-and-faire-07-14-2013-5257
END:VEVENT

END:VCALENDAR
