BEGIN:VCALENDAR
VERSION:2.0
PRODID:-//ChamberMaster//Event Calendar 2.0//EN
METHOD:PUBLISH
X-PUBLISHED-TTL:P3D
REFRESH-INTERVAL:P3D
CALSCALE:GREGORIAN
BEGIN:VEVENT
DTSTART:20250613T160000Z
DTEND:20250613T170000Z
X-MICROSOFT-CDO-ALLDAYEVENT:FALSE
SUMMARY:Elmhurst Greek Festival at Saint Demetrios Greek Orthodox Church
DESCRIPTION:Come join us for a weekend of family-friendly fun filled with delicious food\, domestic and imported beverages\, amazing pastries\, live music\, dancing and all things Greek!\n\n\n\nHosted by The Greek Orthodox Church of Saint Demetrios\, Greek Fest Elmhurst is a vibrant celebration of Greek culture\, food\, and tradition. Enjoy authentic Greek cuisine and pastries\, live music\, exciting raffle prizes\, and family-friendly games. Explore the beauty of our faith with guided church tours\, and unwind with drinks from our full bar. Whether you're here for the delicious food\, the festive atmosphere\, or the warm hospitality\, Greek Fest Elmhurst promises a memorable experience for all!
X-ALT-DESC;FMTTYPE=text/html:<span style="font-size:18px">Come join us for a weekend of family-friendly fun filled with delicious food\, domestic and imported beverages\, amazing pastries\, live music\, dancing and all things Greek!</span><br />\n<br />\n<span style="font-size:18px"><span style="font-family:poppins\,sans-serif">Hosted by The Greek Orthodox Church of Saint Demetrios\, Greek Fest Elmhurst is a vibrant celebration of Greek culture\, food\, and tradition. Enjoy authentic Greek cuisine and pastries\, live music\, exciting raffle prizes\, and family-friendly games. Explore the beauty of our faith with guided church tours\, and unwind with drinks from our full bar. Whether you&rsquo\;re here for the delicious food\, the festive atmosphere\, or the warm hospitality\, Greek Fest Elmhurst promises a memorable experience for all!</span></span>
LOCATION:893 N. Church Rd. Elmhurst\, IL 60126
UID:e.333.17074
SEQUENCE:3
DTSTAMP:20260419T154821Z
URL:https://chambermaster.elmhurstchamber.org/events/details/elmhurst-greek-festival-at-saint-demetrios-greek-orthodox-church-17074
END:VEVENT

END:VCALENDAR
