BEGIN:VCALENDAR
VERSION:2.0
PRODID:-//ChamberMaster//Event Calendar 2.0//EN
METHOD:PUBLISH
X-PUBLISHED-TTL:P3D
REFRESH-INTERVAL:P3D
CALSCALE:GREGORIAN
BEGIN:VEVENT
DTSTART:20131102T230000Z
DTEND:20131103T040000Z
X-MICROSOFT-CDO-ALLDAYEVENT:FALSE
SUMMARY:Elmhurst Heritage Foundation Gala
DESCRIPTION:The Elmhurst Heritage Foundation invites the community to a special Gala Celebration in support of the Visionary Voices campaign\, a critical fundraising effort to create a new "History of Elmhurst" exhibit at the Elmhurst Historical Museum. The evening features dinner\, open bar\, live musical entertainment by Jazz Couture\, live and silent auctions\, and celebrity emcee ABC 7's Janet Davies. Sponsorship opportunities are available.
X-ALT-DESC;FMTTYPE=text/html:The Elmhurst Heritage Foundation invites the community to a special Gala Celebration in support of the Visionary Voices campaign\, a critical fundraising effort to create a new &quot\;History of Elmhurst&quot\; exhibit at the Elmhurst Historical Museum. The evening features dinner\, open bar\, live musical entertainment by Jazz Couture\, live and silent auctions\, and celebrity emcee ABC 7&#39\;s Janet Davies. Sponsorship opportunities are available. 
LOCATION:Drury Lane 100 Drury Lane Oakbrook Terrace\, IL 60181
UID:e.333.5598
SEQUENCE:3
DTSTAMP:20260424T084843Z
URL:https://chambermaster.elmhurstchamber.org/events/details/elmhurst-heritage-foundation-gala-11-02-2013-5598
END:VEVENT

END:VCALENDAR
