BEGIN:VCALENDAR
VERSION:2.0
PRODID:-//ChamberMaster//Event Calendar 2.0//EN
METHOD:PUBLISH
X-PUBLISHED-TTL:P3D
REFRESH-INTERVAL:P3D
CALSCALE:GREGORIAN
BEGIN:VEVENT
DTSTART:20131102T230000Z
DTEND:20131103T030000Z
X-MICROSOFT-CDO-ALLDAYEVENT:FALSE
SUMMARY:Elmhurst Heritage Foundation Gala: Visionary Voices
DESCRIPTION:
X-ALT-DESC;FMTTYPE=text/html:
LOCATION:Drury Lane 100 Drury Lane OakBrook Terrace\, IL 60181
UID:e.333.5276
SEQUENCE:3
DTSTAMP:20260424T085115Z
URL:https://chambermaster.elmhurstchamber.org/events/details/elmhurst-heritage-foundation-gala-visionary-voices-11-02-2013-5276
END:VEVENT

END:VCALENDAR
