BEGIN:VCALENDAR
VERSION:2.0
PRODID:-//ChamberMaster//Event Calendar 2.0//EN
METHOD:PUBLISH
X-PUBLISHED-TTL:P3D
REFRESH-INTERVAL:P3D
CALSCALE:GREGORIAN
BEGIN:VEVENT
DTSTART;VALUE=DATE:20120607
DTEND;VALUE=DATE:20120611
TRANSP:TRANSPARENT
X-MICROSOFT-CDO-ALLDAYEVENT:TRUE
SUMMARY:Elmhurst Jaycees Charity Carnival
DESCRIPTION:The 21st annual Jaycees Charity Carnival will run from Thursday June 7 to Sunday June 10 in downtown Elmhurst on Park Avenue\, between Prospect and Myrtle.  \n\n\n\nCarnival Hours:\n\n\n\nThursday\, June 7 from 6:00 to 10:00 pm.\n\nFriday\, June 8 from 4:00 to 10:00 pm.\n\nSaturday\, June 9 from Noon to 10:00 pm.\n\nSunday\, June 10 from Noon to 6:pm.\n\n\n\nPresale Mega Passes are available until June 3.  Get unlimited rides for $50!  Mega Passes may be purchased at the Elmhurst Chamber of Commerce\, located at 242 N. York St. in Elmhurst\, or through Pay Pal on the Jaycees website\, www.elmhurstjaycees.com\n\n\n\nAfter the carnival begins\, Mega Passes will be available at the Jaycees carnival booth for $60 each.
X-ALT-DESC;FMTTYPE=text/html:The 21st&nbsp\;annual&nbsp\;Jaycees Charity Carnival&nbsp\;will&nbsp\;run&nbsp\;from Thursday June&nbsp\;7 to&nbsp\;Sunday&nbsp\;June 10 in&nbsp\;downtown&nbsp\;Elmhurst&nbsp\;on Park&nbsp\;Avenue\, between Prospect and&nbsp\;Myrtle.&nbsp\;&nbsp\;<br />\n<br />\nCarnival Hours:<br />\n<br />\nThursday\, June&nbsp\;7 from&nbsp\;6:00 to 10:00 pm.<br />\nFriday\, June&nbsp\;8 from&nbsp\;4:00 to&nbsp\;10:00 pm.<br />\nSaturday\, June 9 from&nbsp\;Noon&nbsp\;to&nbsp\;10:00 pm.<br />\nSunday\, June 10 from Noon to&nbsp\;6:pm.<br />\n<br />\nPresale Mega Passes are available until June 3.&nbsp\; Get unlimited&nbsp\;rides for&nbsp\;$50!&nbsp\; Mega&nbsp\;Passes may be&nbsp\;purchased&nbsp\;at the Elmhurst Chamber of Commerce\, located at 242 N.&nbsp\;York&nbsp\;St. in&nbsp\;Elmhurst\,&nbsp\;or&nbsp\;through Pay Pal&nbsp\;on the Jaycees website\, www.elmhurstjaycees.com<br />\n<br />\nAfter the carnival begins\,&nbsp\;Mega Passes&nbsp\;will be available&nbsp\;at the&nbsp\;Jaycees&nbsp\;carnival booth for $60 each.&nbsp\;&nbsp\;<br />\n<br />\n&nbsp\; 
LOCATION:Park Ave. Between Prospect and Myrtle
UID:e.333.4776
SEQUENCE:3
DTSTAMP:20260425T003918Z
URL:https://chambermaster.elmhurstchamber.org/events/details/elmhurst-jaycees-charity-carnival-06-07-2012-4776
END:VEVENT

END:VCALENDAR
