BEGIN:VCALENDAR
VERSION:2.0
PRODID:-//ChamberMaster//Event Calendar 2.0//EN
METHOD:PUBLISH
X-PUBLISHED-TTL:P3D
REFRESH-INTERVAL:P3D
CALSCALE:GREGORIAN
BEGIN:VEVENT
DTSTART:20110612T040000Z
DTEND:20110612T030000Z
X-MICROSOFT-CDO-ALLDAYEVENT:FALSE
SUMMARY:Elmhurst Jaycees Charity Carnival
DESCRIPTION:
X-ALT-DESC;FMTTYPE=text/html:
LOCATION:Downtown Elmhurst on Park Ave and Prospect
UID:e.333.4213
SEQUENCE:3
DTSTAMP:20260425T191608Z
URL:https://chambermaster.elmhurstchamber.org/events/details/elmhurst-jaycees-charity-carnival-06-11-2011-4213
END:VEVENT

END:VCALENDAR
