BEGIN:VCALENDAR
VERSION:2.0
PRODID:-//ChamberMaster//Event Calendar 2.0//EN
METHOD:PUBLISH
X-PUBLISHED-TTL:P3D
REFRESH-INTERVAL:P3D
CALSCALE:GREGORIAN
BEGIN:VEVENT
DTSTART:20110505T230000Z
DTEND:20110506T030000Z
X-MICROSOFT-CDO-ALLDAYEVENT:FALSE
SUMMARY:Elmhurst Jaycees Distinguished Service Award (DSA) Banquet
DESCRIPTION:The Elmhurst Jaycees are pleased to announce Kevin and Sarah Diamond as the recipients of the 60th Distinguished Service Award (DSA).  As former and very active Elmhurst Jaycees\, they truly fit the bill of the Elmhurst Jaycee creed with their selfless works and belief that "service to humanity is the best work of life."\n\n	     Julie Miller Sheehan\, co-chair of the DSA banquet\, is especially proud of the committee's selection this year.  "Kevin invited me to my first Jaycee meeting and I immediately joined the chapter.  He has been a very reliable Jaycee mentor ever since.  The Diamonds are role models and have become close personal friends as well."\n\n	\n\n	Click HERE to view press release.
X-ALT-DESC;FMTTYPE=text/html:<div>\n	&nbsp\;</div>\n<div>\n	<span style="font-size: 11pt"><span style="font-family: times new roman">The <a href="http://chambermaster.elmhurstchamber.org/list/Member/elmhurst-jaycees-elmhurst.htm">Elmhurst Jaycees </a>are pleased to announce Kevin and Sarah Diamond as the recipients of the 60<sup>th</sup> Distinguished Service Award (DSA).&nbsp\; As former and very active Elmhurst Jaycees\, they truly fit the bill of the Elmhurst Jaycee creed with their selfless works and belief that &ldquo\;service to humanity is the best work of life.&rdquo\;<br />\n	&nbsp\;&nbsp\;&nbsp\;&nbsp\; Julie Miller Sheehan\, co-chair of the DSA banquet\, is especially proud of the committee&rsquo\;s selection this year.&nbsp\; &ldquo\;Kevin invited me to my first Jaycee meeting and I immediately joined the chapter.&nbsp\; He has been a very reliable Jaycee mentor ever since.&nbsp\; The Diamonds are role models and have become close personal friends as well.&rdquo\;<br />\n	<br />\n	Click <a href="http://elmhurstchamber.org/News/NewsArticleDisplay/tabid/94/smid/452/ArticleID/608/reftab/95/t/Diamonds-To-Receive-Elmhurst-Jaycees-DSA/Default.aspx">HERE</a> to view press release.</span></span><br />\n	&nbsp\;</div>\n
LOCATION:Thursday\, May 5\, 2011 Reception - 6:00 p.m. Dinner - 7:00 p.m. with program to follow
UID:e.333.4149
SEQUENCE:3
DTSTAMP:20260425T192221Z
URL:https://chambermaster.elmhurstchamber.org/events/details/elmhurst-jaycees-distinguished-service-award-dsa-banquet-05-05-2011-4149
END:VEVENT

END:VCALENDAR
