BEGIN:VCALENDAR
VERSION:2.0
PRODID:-//ChamberMaster//Event Calendar 2.0//EN
METHOD:PUBLISH
X-PUBLISHED-TTL:P3D
REFRESH-INTERVAL:P3D
CALSCALE:GREGORIAN
BEGIN:VEVENT
DTSTART:20120523T230000Z
DTEND:20120524T030000Z
X-MICROSOFT-CDO-ALLDAYEVENT:FALSE
SUMMARY:Elmhurst Jaycees Distinguished Service Award (DSA) Banquet
DESCRIPTION:The Elmhurst Jaycees are pleased to announce John Quigley as the recipient of the 61st Distinguished Service Award (DSA). Quigley was born\, raised and educated in Elmhurst and has also worked here most of his life. He holds nearly 25 years of leadership positions\, including his years at Elmhurst College\, his involvement in the Elmhurst Chamber of Commerce & Industry (ECCI) and his tenure as President and CEO of the Elmhurst Chamber of Commerce & Industry since 1999. "I have known John since 1998 and have always admired his great leadership skills\," states Julie Miller Sheehan\, co-chair of the event.\n\n	\n\n	For more information click here.
X-ALT-DESC;FMTTYPE=text/html:<div>\n	&nbsp\;</div>\n<div>\n	<span style="font-family: 'times new roman'"><span style="font-size: 11pt">The </span><span style="font-size: 11pt">Elmhurst Jaycees </span><span style="font-size: 11pt">are pleased to announce John Quigley as the recipient of the </span><span style="font-size: 11pt">61</span>st<span style="font-size: 11pt">&nbsp\;Distinguished Service Award (</span>DSA<span style="font-size: 11pt">). Quigley was born\, raised and educated in Elmhurst and has also worked here most of his life. He holds nearly 25 years of leadership positions\, including his years at Elmhurst College\, his involvement in the Elmhurst Chamber of Commerce &amp\; Industry (ECCI) and his tenure as President and CEO of the Elmhurst Chamber of Commerce &amp\; Industry since 1999. &quot\;I have known John since 1998 and have always admired his great leadership skills\,&quot\; states Julie Miller Sheehan\, co-chair of the event.<br />\n	<br />\n	For more information click <a href="http://elmhurstjaycees.com/">here</a>.&nbsp\;</span></span></div>\n
LOCATION:Wednesday\, May 23\, 2012 Reception - 6:00 p.m. Dinner - 7:00 p.m. With program to follow
UID:e.333.4833
SEQUENCE:3
DTSTAMP:20260425T004003Z
URL:https://chambermaster.elmhurstchamber.org/events/details/elmhurst-jaycees-distinguished-service-award-dsa-banquet-05-23-2012-4833
END:VEVENT

END:VCALENDAR
