BEGIN:VCALENDAR
VERSION:2.0
PRODID:-//ChamberMaster//Event Calendar 2.0//EN
METHOD:PUBLISH
X-PUBLISHED-TTL:P3D
REFRESH-INTERVAL:P3D
CALSCALE:GREGORIAN
BEGIN:VEVENT
DTSTART:20120512T190000Z
DTEND:20120512T210000Z
X-MICROSOFT-CDO-ALLDAYEVENT:FALSE
SUMMARY:Elmhurst Jaycees Emerald Princess Day
DESCRIPTION:Hear Ye\, Hear Ye! All young ladies are royally invited to the Elmhurst Jaycees Emerald Princess Day on Saturday\, May 12. The Emerald Queen of Elmhurst and her Court will serve as fairy godmothers for young ladies ages 3+ that enchanted afternoon.  Proceeds from Emerald Princess Day will be donated to Jaycee-supported charities in Elmhurst. \n\n\n\nYoung ladies should be dropped off in their most glittery garb at 2 p.m. on Saturday\, May 12 in the Large Meeting Room on the first floor of the Elmhurst Public Library\, 125 S. Prospect (this meeting/program is not an Elmhurst Public Library activity).  Carriages should return to pick up their princesses at 4 p.m.\n\n\n\nOnly the most charming of all events are planned\, including a decorate-your-own-tiara craft project and a tea party where participants will learn proper princess etiquette tips.  The $50 fee includes a t-shirt\, tiara\, tea party\, goodies\, and a photo with the Emerald Queen of Elmhurst.  All of the Emerald Princesses will be invited to wear their t-shirts and show off their newly-honed royal skills in the Elmhurst Memorial Day Parade on May 28 with the Elmhurst Jaycees\, the Emerald Queen of Elmhurst\, and her Court. \n\n\n\nSign up online at www.elmhurstjaycees.com. Space is limited\, so register today!\n\n\n\nFor more than half a century\, the Elmhurst Jaycees has been a leadership development organization for individuals ages 21-40 who are interested in improving themselves\, meeting new people\, and helping their community.  For additional information on the Elmhurst Jaycees\, including membership information\, www.elmhurstjaycees.com
X-ALT-DESC;FMTTYPE=text/html:<b style="font-family: 'Times New Roman'\; font-size: medium"><span style="font-family: Arial\; white-space: pre-wrap\; font-size: 13px\; vertical-align: baseline\; font-weight: normal">Hear Ye\, Hear Ye! All young ladies are royally invited to the Elmhurst Jaycees Emerald Princess Day on Saturday\, May 12. The Emerald Queen of Elmhurst and her Court will serve as fairy godmothers for young ladies ages 3+ that enchanted afternoon. &nbsp\;Proceeds from Emerald Princess Day will be donated to Jaycee-supported charities in Elmhurst. </span><br />\n<br />\n<span style="font-family: Arial\; white-space: pre-wrap\; font-size: 13px\; vertical-align: baseline\; font-weight: normal">Young ladies should be dropped off in their most glittery garb at 2 p.m. on Saturday\, May 12 in the Large Meeting Room on the first floor of the Elmhurst Public Library\, 125 S. Prospect (this meeting/program is not an Elmhurst Public Library activity). &nbsp\;Carriages should return to pick up their princesses at 4 p.m.</span><br />\n<br />\n<span style="font-family: Arial\; white-space: pre-wrap\; font-size: 13px\; vertical-align: baseline\; font-weight: normal">Only the most charming of all events are planned\, including a decorate-your-own-tiara craft project and a tea party where participants will learn proper princess etiquette tips. &nbsp\;The $50 fee includes a t-shirt\, tiara\, tea party\, goodies\, and a photo with the Emerald Queen of Elmhurst. &nbsp\;All of the Emerald Princesses will be invited to wear their t-shirts and show off their newly-honed royal skills in the Elmhurst Memorial Day Parade on May 28 with the Elmhurst Jaycees\, the Emerald Queen of Elmhurst\, and her Court. </span><br />\n<br />\n<span style="font-family: Arial\; white-space: pre-wrap\; font-size: 13px\; vertical-align: baseline\; font-weight: normal">Sign up online at <a href="http://www.elmhurstjaycees.com/" style="color: rgb(17\,85\,204)" target="_blank">www.elmhurstjaycees.com</a>. Space is limited\, so register today!</span><br />\n<br />\n<span style="font-family: Arial\; white-space: pre-wrap\; font-size: 13px\; vertical-align: baseline\; font-weight: normal">For more than half a century\, the Elmhurst Jaycees has been a leadership development organization for individuals ages 21-40 who are interested in improving themselves\, meeting new people\, and helping their community. &nbsp\;For additional information on the Elmhurst Jaycees\, including membership information\, </span></b><b style="font-family: 'Times New Roman'\; color: rgb(0\,0\,0)\; font-size: medium"><span style="font-family: Arial\; white-space: pre-wrap\; font-size: 13px\; vertical-align: baseline\; font-weight: normal"><a href="http://www.elmhurstjaycees.com/" style="color: rgb(17\,85\,204)" target="_blank">www.elmhurstjaycees.com</a></span></b>
LOCATION:Elmhurst Public Library
UID:e.333.4835
SEQUENCE:3
DTSTAMP:20260425T003804Z
URL:https://chambermaster.elmhurstchamber.org/events/details/elmhurst-jaycees-emerald-princess-day-05-12-2012-4835
END:VEVENT

END:VCALENDAR
