BEGIN:VCALENDAR
VERSION:2.0
PRODID:-//ChamberMaster//Event Calendar 2.0//EN
METHOD:PUBLISH
X-PUBLISHED-TTL:P3D
REFRESH-INTERVAL:P3D
CALSCALE:GREGORIAN
BEGIN:VEVENT
DTSTART:20101105T000000Z
DTEND:20101105T030000Z
X-MICROSOFT-CDO-ALLDAYEVENT:FALSE
SUMMARY:Elmhurst Jaycees Monthly Meeting
DESCRIPTION:The Elmhurst Jaycees is a leadership organization for persons ages 21-40.  Please join the Jaycees for their monthly membership meeting followed by a social at an Elmhurst establishment.
X-ALT-DESC;FMTTYPE=text/html:The Elmhurst Jaycees is a leadership organization for persons ages 21-40.  Please join the Jaycees for their monthly membership meeting followed by a social at an Elmhurst establishment.
LOCATION:162 S. York Road (Dist 205 Bldg)\, Elmhurst\, IL
UID:e.333.3483
SEQUENCE:3
DTSTAMP:20260426T042844Z
URL:https://chambermaster.elmhurstchamber.org/events/details/elmhurst-jaycees-monthly-meeting-11-04-2010-3483
END:VEVENT

END:VCALENDAR
