BEGIN:VCALENDAR
VERSION:2.0
PRODID:-//ChamberMaster//Event Calendar 2.0//EN
METHOD:PUBLISH
X-PUBLISHED-TTL:P3D
REFRESH-INTERVAL:P3D
CALSCALE:GREGORIAN
BEGIN:VEVENT
DTSTART:20130510T230000Z
DTEND:20130511T030000Z
X-MICROSOFT-CDO-ALLDAYEVENT:FALSE
SUMMARY:Elmhurst Junior Women's Club Tickled Pink Event to benefit breast cancer
DESCRIPTION:Elmhurst Junior Women's Club presents 8th Tickled Pink \n\n	 \n\n	Friday\, May 10\, 2013\n\n	6:00 p.m.   10:00 p.m.\n\n	The Diplomat West\, 681 W. North Avenue\, Elmhurst\n\n	Tickets - $20 general admission\, $5 children under 10\n\n	 Join the Elmhurst Junior Women's Club for an evening of shopping\, food and fun as they host Tickled Pink to benefit breast cancer at the Diplomat West\, 681 West North Avenue in Elmhurst. Mothers\, daughters and women of all ages can come shop a variety of great vendors and enjoy appetizers\, desserts and beverages for a great cause!\n\n	\n\n	The marketplace will be brimming with purses and handbags\, jewelry\, makeup\, skincare\, stationery and so much more. Younger girls will discover games\, crafts\, dancing\, nail and face painting and a special appearance by Miss Illinois!  All proceeds will benefit the Breast Health Center at Elmhurst Memorial Hospital and the EJWC Brenda Grabacki Scholarship Fund.\n\n	\n\n	 For advance purchase tickets\, or to learn about the Elmhurst Junior Women's Club\, please visit www.elmhurst-juniors.org.
X-ALT-DESC;FMTTYPE=text/html:<p class="MsoNormal" style="margin-bottom: 0pt\;">\n	<b>Elmhurst Junior Women&rsquo\;s Club presents 8<sup>th</sup> Tickled Pink <o:p></o:p></b></p>\n<p class="MsoNormal" style="margin-bottom: 0pt\;">\n	&nbsp\;<o:p></o:p></p>\n<p class="MsoNormal" style="margin-bottom: 0pt\;">\n	Friday\, May 10\, 2013<o:p></o:p></p>\n<p class="MsoNormal" style="margin-bottom: 0pt\;">\n	6:00 p.m. &ndash\; 10:00 p.m.<o:p></o:p></p>\n<p class="MsoNormal" style="margin-bottom: 0pt\;">\n	The Diplomat West\, 681 W. North Avenue\, Elmhurst<o:p></o:p></p>\n<p class="MsoNormal" style="margin-bottom: 0pt\;">\n	Tickets - $20 general admission\, $5 children under 10<o:p></o:p></p>\n<p class="MsoNormal" style="margin-bottom: 0pt\;">\n	&nbsp\;<o:p>J</o:p>oin the Elmhurst Junior Women&#39\;s Club for an evening of shopping\, food and fun as they host Tickled Pink to benefit breast cancer at the Diplomat West\, 681 West North Avenue in Elmhurst. Mothers\, daughters and women of all ages can come shop a variety of great vendors and enjoy appetizers\, desserts and beverages for a great cause!</p>\n<p class="MsoNormal" style="margin-bottom: 0pt\;">\n	<o:p></o:p></p>\n<p class="MsoNormal" style="margin-bottom: 0pt\;">\n	The marketplace will be brimming with purses and handbags\, jewelry\, makeup\, skincare\, stationery and so much more. Younger girls will discover games\, crafts\, dancing\, nail and face painting and a special appearance by Miss Illinois!&nbsp\; All proceeds will benefit the Breast Health Center at Elmhurst Memorial Hospital and the EJWC Brenda Grabacki Scholarship Fund.</p>\n<p class="MsoNormal" style="margin-bottom: 0pt\;">\n	<o:p></o:p></p>\n<p class="MsoNormal" style="margin-bottom: 0pt\;">\n	<o:p>&nbsp\;</o:p>For advance purchase tickets\, or to learn about the Elmhurst Junior Women&#39\;s Club\, please visit <a href="http://www.elmhurst-juniors.org/">www.elmhurst-juniors.org</a>. &nbsp\;</p>\n<p class="MsoNormal" style="margin-bottom: 0pt\;">\n	<o:p></o:p></p>\n
LOCATION:Diplomat West\, 681 West North Avenue\, Elmhurst
UID:e.333.5271
SEQUENCE:3
DTSTAMP:20260422T180939Z
URL:https://chambermaster.elmhurstchamber.org/events/details/elmhurst-junior-women-s-club-tickled-pink-event-to-benefit-breast-cancer-05-10-2013-5271
END:VEVENT

END:VCALENDAR
