BEGIN:VCALENDAR
VERSION:2.0
PRODID:-//ChamberMaster//Event Calendar 2.0//EN
METHOD:PUBLISH
X-PUBLISHED-TTL:P3D
REFRESH-INTERVAL:P3D
CALSCALE:GREGORIAN
BEGIN:VEVENT
DTSTART:20120520T130000Z
DTEND:20120521T000000Z
X-MICROSOFT-CDO-ALLDAYEVENT:FALSE
SUMMARY:Elmhurst Morning Rotary & Pauli's Marathon Donations
DESCRIPTION:An opportunity to benefit United Community Concerns will be at Pauli's Marathon at 260 N. York Rd.\, Elmhurst.  On Sunday\, May 20 until 7:00 pm\, $.10 will be donated to United Community Concerns for every gallon of gas pumped.  Owner Chuck Pauli is a member the Elmhurst Morning Rotary and wished to contribute to the UCCA organization.
X-ALT-DESC;FMTTYPE=text/html:<span style="LINE-HEIGHT: 115%\; FONT-FAMILY: 'Times New Roman'\,'serif'\; FONT-SIZE: 12pt">An opportunity to benefit United Community Concerns will be at Pauli&rsquo\;s Marathon at 260 N. York Rd.\, Elmhurst.&nbsp\; On Sunday\, May 20 until 7:00 pm\, $.10 will be donated to United Community Concerns for every gallon of gas pumped.&nbsp\; Owner Chuck Pauli is a member the Elmhurst Morning Rotary and wished to contribute to the UCCA organization.<o:p></o:p></span>
LOCATION:Pauli's Marathon 260 North York Road Elmhurst\, IL 60126
UID:e.333.4837
SEQUENCE:3
DTSTAMP:20260425T004019Z
URL:https://chambermaster.elmhurstchamber.org/events/details/elmhurst-morning-rotary-pauli-s-marathon-donations-05-20-2012-4837
END:VEVENT

END:VCALENDAR
