BEGIN:VCALENDAR
VERSION:2.0
PRODID:-//ChamberMaster//Event Calendar 2.0//EN
METHOD:PUBLISH
X-PUBLISHED-TTL:P3D
REFRESH-INTERVAL:P3D
CALSCALE:GREGORIAN
BEGIN:VEVENT
DTSTART:20120531T230000Z
DTEND:20120601T020000Z
X-MICROSOFT-CDO-ALLDAYEVENT:FALSE
SUMMARY:Elmhurst Morning Rotary Wine Tasting Benefit
DESCRIPTION:The Elmhurst Morning Rotary is hosting a Wine Tasting Benefit on Thursday\, May 31 from 6:00 to 9:00 PM at the Wilder Mansion. Located at 211 Prospect Ave\, Elmhurst. The cost is $40 per couple and $25 per single.  Besides the wine tasting\, there will be a nice selection of appetizers\, deserts and a cash bar.  A door prize and raffles will be a part of a lovely evening at the Wilder Mansion.  Registration can be completed at http://www.elmhurstmorningrotary.com/.  To obtain a good headcount for ordering food and beverage\, guests are asked to sign up as soon as possible.
X-ALT-DESC;FMTTYPE=text/html:<span style="LINE-HEIGHT: 115%\; FONT-FAMILY: 'Times New Roman'\,'serif'\; FONT-SIZE: 12pt">The Elmhurst Morning Rotary is hosting a Wine Tasting Benefit on <b>Thursday\, May 31 from 6:00 to 9:00 PM at the Wilder Mansion</b>. Located at 211 Prospect Ave\, Elmhurst. The cost is $40 per couple and $25 per single.&nbsp\; Besides the wine tasting\, there will be a nice selection of appetizers\, deserts and a cash bar.&nbsp\; A door prize and raffles will be a part of a lovely evening at the Wilder Mansion.&nbsp\; Registration can be completed at <a href="http://www.elmhurstmorningrotary.com/.">http://www.elmhurstmorningrotary.com/.</a>&nbsp\; To obtain a good headcount for ordering food and beverage\, guests are asked to sign up as soon as possible.<o:p></o:p></span>
LOCATION:Wilder Mansion 211 Prospect Avenue Elmhurst\, IL 60126
UID:e.333.4836
SEQUENCE:3
DTSTAMP:20260425T003912Z
URL:https://chambermaster.elmhurstchamber.org/events/details/elmhurst-morning-rotary-wine-tasting-benefit-05-31-2012-4836
END:VEVENT

END:VCALENDAR
