BEGIN:VCALENDAR
VERSION:2.0
PRODID:-//ChamberMaster//Event Calendar 2.0//EN
METHOD:PUBLISH
X-PUBLISHED-TTL:P3D
REFRESH-INTERVAL:P3D
CALSCALE:GREGORIAN
BEGIN:VEVENT
DTSTART:20110312T000000Z
DTEND:20110312T040000Z
X-MICROSOFT-CDO-ALLDAYEVENT:FALSE
SUMMARY:Elmhurst Panhellenic Fashion Show "Spring Into Fashion"
DESCRIPTION:Spring Into Fashion is a fashion show and primary annual fund raiser to benefit Elmhurst Panhellenic Foundation scholarships. The event also includes a vendor boutique\, silent auction and raffle. Guests will enjoy a sit down dinner and cash bar.\n\n\n\nThe fashion show will feature sensational spring fashions from Elmhurst retailers\, including: Camden\, Enzee\, RedE\, York Furrier\, Uptown Shop\, biancarose\, Leonard's Fine Men's Clothing\, Just Fun Fashions and La La Land. New this year is a great photo opportunity of our local fashion models. A portion of the show will feature Presidents of Elmhurst-based charities modeling Furs from York Furrier. As always\, Elmhurst children will model clothes from La La Land. The show is produced by Zzazz Productions.
X-ALT-DESC;FMTTYPE=text/html:Spring Into Fashion is a fashion show and primary annual fund raiser to benefit Elmhurst Panhellenic Foundation scholarships. The event also includes a vendor boutique\, silent auction and raffle. Guests will enjoy a sit down dinner and cash bar.<br />\n<br />\nThe fashion show will feature sensational spring fashions from Elmhurst retailers\, including: Camden\, Enzee\, RedE\, York Furrier\, Uptown Shop\, biancarose\, Leonard&#39\;s Fine Men&#39\;s Clothing\, Just Fun Fashions and La La Land. New this year is a great photo opportunity of our local fashion models. A portion of the show will feature Presidents of Elmhurst-based charities modeling Furs from York Furrier. As always\, Elmhurst children will model clothes from La La Land. The show is produced by Zzazz Productions.
LOCATION:Diplomat West Banquet Halls 681 West North Avenue Elmhurst\, IL 60126
UID:e.333.3873
SEQUENCE:3
DTSTAMP:20260425T234134Z
URL:https://chambermaster.elmhurstchamber.org/events/details/elmhurst-panhellenic-fashion-show-spring-into-fashion-03-11-2011-3873
END:VEVENT

END:VCALENDAR
