BEGIN:VCALENDAR
VERSION:2.0
PRODID:-//ChamberMaster//Event Calendar 2.0//EN
METHOD:PUBLISH
X-PUBLISHED-TTL:P3D
REFRESH-INTERVAL:P3D
CALSCALE:GREGORIAN
BEGIN:VEVENT
DTSTART:20110521T150000Z
DTEND:20110521T170000Z
X-MICROSOFT-CDO-ALLDAYEVENT:FALSE
SUMMARY:Elmhurst Park District Bike Rodeo
DESCRIPTION:Join the Elmhurst Park District staff\, community volunteers\, York & Vallette Business Association and the Elmhurst Chamber of Commerce. We will be holding all the festivities where the Depot\, the Prairie Path and Safety Town come together. This year we will be expanding the activities for the whole family. We will still have Safety Town open\, so please bring your tricycles or borrow one of ours. For children who are riding on two wheelers we will have skills course consisting of nine stations that will teach bike safety tactics and skills. Each member of the family will have the opportunity to register their bike with the Elmhurst Police Department. A representative from Active Transportation Alliance will be on hand to do helmet checks and ABC Quick checks on all the bikes. A local bike shop will also be on hand to do small tune ups on the bikes in need. There will be refreshments and safety fun for the entire family. For more information contact the Wagner Community Center at (630) 993-8901.
X-ALT-DESC;FMTTYPE=text/html:<p align="justify">\n	Join the Elmhurst Park District staff\, community volunteers\, York &amp\; Vallette Business Association and the Elmhurst Chamber of Commerce. We will be holding all the festivities where the Depot\, the Prairie Path and Safety Town come together. This year we will be expanding the activities for the whole family. We will still have Safety Town open\, so please bring your tricycles or borrow one of ours. For children who are riding on two wheelers we will have skills course consisting of nine stations that will teach bike safety tactics and skills. Each member of the family will have the opportunity to register their bike with the Elmhurst Police Department. A representative from Active Transportation Alliance will be on hand to do helmet checks and ABC Quick checks on all the bikes. A local bike shop will also be on hand to do small tune ups on the bikes in need. There will be refreshments and safety fun for the entire family. For more information contact the <a href="http://www.epd.org/facilities/wagnercc.asp">Wagner Community Center</a> at (630) 993-8901.</p>\n<a id="SKATE COMP" name="SKATE COMP"></a>\n<hr size="1" />\n
LOCATION:At the depot\, corner of York and South St. Elmhurst
UID:e.333.4209
SEQUENCE:3
DTSTAMP:20260425T192221Z
URL:https://chambermaster.elmhurstchamber.org/events/details/elmhurst-park-district-bike-rodeo-05-21-2011-4209
END:VEVENT

END:VCALENDAR
