BEGIN:VCALENDAR
VERSION:2.0
PRODID:-//ChamberMaster//Event Calendar 2.0//EN
METHOD:PUBLISH
X-PUBLISHED-TTL:P3D
REFRESH-INTERVAL:P3D
CALSCALE:GREGORIAN
BEGIN:VEVENT
DTSTART:20101211T180000Z
DTEND:20101211T210000Z
X-MICROSOFT-CDO-ALLDAYEVENT:FALSE
SUMMARY:Elmhurst Pointe Holiday Helpers
DESCRIPTION:Elmhurst Pointe Elves will be wrapping shopper's gifts in downtown Elmhurst on Saturday\, December 11\, 2010 from 12:00 p.m. to 3:00 p.m. Bring your presents to Elmhurst Pointe and our elves will wrap your gifts while you wait and enjoy music and light refreshments. The gift wrapping is free\, but we encourage donations which will go directly to the Immaculate Conception Elmhurst Walk In Ministry Food Pantry.
X-ALT-DESC;FMTTYPE=text/html:Elmhurst Pointe Elves will be wrapping shopper&#39\;s gifts in downtown Elmhurst on Saturday\, December 11\, 2010 from 12:00 p.m. to 3:00 p.m. Bring your presents to Elmhurst Pointe and our elves will wrap your gifts while you wait and enjoy music and light refreshments. The gift wrapping is free\, but we encourage donations which will go directly to the Immaculate Conception Elmhurst Walk In Ministry Food Pantry.
LOCATION:111 West Third Street\, Elmhurst\, IL.
UID:e.333.3580
SEQUENCE:3
DTSTAMP:20260426T024747Z
URL:https://chambermaster.elmhurstchamber.org/events/details/elmhurst-pointe-holiday-helpers-12-11-2010-3580
END:VEVENT

END:VCALENDAR
