BEGIN:VCALENDAR
VERSION:2.0
PRODID:-//ChamberMaster//Event Calendar 2.0//EN
METHOD:PUBLISH
X-PUBLISHED-TTL:P3D
REFRESH-INTERVAL:P3D
CALSCALE:GREGORIAN
BEGIN:VEVENT
DTSTART;VALUE=DATE:20130122
DTEND;VALUE=DATE:20130302
TRANSP:TRANSPARENT
X-MICROSOFT-CDO-ALLDAYEVENT:TRUE
SUMMARY:Elmhurst?s Hamburger Heaven in new EAG art show
DESCRIPTION:Elmhurst's historic\, well loved Hamburger Heaven\, at North & York\, may be closed for the winter\, but a realistic rendition of this famous diner can be viewed in Bruce Cascia's "Bikes and Diners" solo art exhibition opening January 22 in the Elmhurst Artist' Guild Gallery at the Elmhurst Art Museum\, 150 S. Cottage Hill Ave.\; An artist's reception open to the public\, will be held in the Gallery\, on Friday\, January 25 from 7 to 9pm.
X-ALT-DESC;FMTTYPE=text/html:Elmhurst&#39\;s historic\, well loved Hamburger Heaven\, at North &amp\; York\, may be closed for the winter\, but a realistic rendition of this famous diner can be viewed in Bruce Cascia&#39\;s &quot\;Bikes and Diners&quot\; solo art exhibition opening January 22 in the Elmhurst Artist&#39\; Guild Gallery at the Elmhurst Art Museum\, 150 S. Cottage Hill Ave.\; An artist&#39\;s reception open to the public\, will be held in the Gallery\, on Friday\, January 25 from 7 to 9pm.&nbsp\;
LOCATION:Elmhurst Art Museum 150 S. Cottage Hill Ave Elmhurst IL\, 60126
UID:e.333.5172
SEQUENCE:3
DTSTAMP:20260424T085205Z
URL:https://chambermaster.elmhurstchamber.org/events/details/elmhurst-s-hamburger-heaven-in-new-eag-art-show-01-22-2013-5172
END:VEVENT

END:VCALENDAR
