BEGIN:VCALENDAR
VERSION:2.0
PRODID:-//ChamberMaster//Event Calendar 2.0//EN
METHOD:PUBLISH
X-PUBLISHED-TTL:P3D
REFRESH-INTERVAL:P3D
CALSCALE:GREGORIAN
BEGIN:VEVENT
DTSTART:20130612T011500Z
DTEND:20130717T030000Z
X-MICROSOFT-CDO-ALLDAYEVENT:FALSE
SUMMARY:Elmhurst Summer Community Band
DESCRIPTION:Ages 12 and Older\n\n	Open to musicians that have concert band experience from ages 12-adult (ages 12-14 may be required to audition)\, the Elmhurst Summer Community Band will rehearse weekly on Tuesdays from 8-10 p.m. starting June 11 at  the York Community High School band room and culminate with two outdoor concerts in Wilder Park on July 16 and 23.  Students will receive excellent instruction from Michael Pavlik\, Director of Bands\, York High School and William Riddle\, Dept. Chair for the Performing Arts at York High School.
X-ALT-DESC;FMTTYPE=text/html:<p class="MsoNormal" style="margin: 0in 0in 0pt 0.1in\;">\n	<font color="#000000" face="Calibri" size="3">Ages 12 and Older</font></p>\n<p class="MsoNormal" style="margin: 0in 0in 0pt 0.1in\;">\n	<font color="#000000" face="Calibri" size="3">Open to musicians that have concert band experience from ages 12-adult (ages 12-14 may be required to audition)\, the Elmhurst Summer Community Band will rehearse weekly on Tuesdays from 8-10 p.m. starting June 11 at<span style="mso-spacerun: yes\;">&nbsp\; </span>the York Community High School band room and culminate with two outdoor concerts in Wilder Park on July 16 and 23.<span style="mso-spacerun: yes\;">&nbsp\; </span>Students will receive excellent instruction from Michael Pavlik\, Director of Bands\, York High School and William Riddle\, Dept. Chair for the Performing Arts at York High School.</font></p>\n
LOCATION:York High School Classroom
UID:e.333.5308
SEQUENCE:3
DTSTAMP:20260422T151518Z
URL:https://chambermaster.elmhurstchamber.org/events/details/elmhurst-summer-community-band-06-11-2013-5308
END:VEVENT

END:VCALENDAR
