BEGIN:VCALENDAR
VERSION:2.0
PRODID:-//ChamberMaster//Event Calendar 2.0//EN
METHOD:PUBLISH
X-PUBLISHED-TTL:P3D
REFRESH-INTERVAL:P3D
CALSCALE:GREGORIAN
BEGIN:VEVENT
DTSTART:20110607T230000Z
DTEND:20110608T030000Z
X-MICROSOFT-CDO-ALLDAYEVENT:FALSE
SUMMARY:Elmhurst Symphony Annual Dinner Celebration
DESCRIPTION:Join Elmhurst Symphony Association members and friends on Tuesday\, June 7 at 6:30 p.m. for the Symphony's annual dinner\, "Symphonic Celebrations."  At the culmination of the orchestra's stellar Golden Jubilee season\, the ESO will celebrate Maestro Stephen Alltop's fifteen years as Music Director and the 70th wedding anniversary of long-time ESO supporters and former Silver Measure winners Arnold and Dora Schenk.  Winners of the 2011 Silver Measure Award for volunteer service to the Symphony and community will be announced.  The evening\, which honors the ESO's past and looks "Towards the Future"-- its exciting 51st season--will be held at the Diplomat West\, 681 W. North Ave.\, in Elmhurst. Cost is $30.  Call the ESO at 630-941-0202 for information and reservations.
X-ALT-DESC;FMTTYPE=text/html:<div>\n	<p class="yiv155139908msonormal" style="margin: 0in 0in 0pt 1in">\n		<font size="3"><font face="Times New Roman"><span style="color: black">Join Elmhurst Symphony Association members and friends on Tuesday\, June 7 at </span><span style="color: black">6:30 p.m.</span><span style="color: black"> for the Symphony&rsquo\;s annual dinner\, &quot\;Symphonic Celebrations.&quot\;&nbsp\; At the culmination of the orchestra&#39\;s&nbsp\;stellar Golden Jubilee season\, the ESO will celebrate Maestro Stephen Alltop&rsquo\;s fifteen years as Music Director&nbsp\;and the 70<sup>th </sup>wedding anniversary of long-time ESO supporters and former Silver Measure&nbsp\;winners Arnold and Dora Schenk.&nbsp\; Winners of the 2011 Silver Measure Award for volunteer service to the Symphony and community will be announced.&nbsp\; The evening\, which honors the&nbsp\;ESO&rsquo\;s past and looks &ldquo\;Towards the Future&rdquo\;-- its exciting 51<sup>st</sup> season--will be held at the&nbsp\;Diplomat West\, </span><span style="color: black">681 W. North Ave.</span><span style="color: black">\, in </span><span style="color: black">Elmhurst</span><span style="color: black">. Cost is $30.&nbsp\; Call the ESO at </span><span style="color: black">630-941-0202</span><span style="color: black">&nbsp\;for information and reservations.</span></font></font><span style="font-family: arial\; color: black\; font-size: 10pt"> <span _fck_bookmark="1" style="display: none">&nbsp\;</span></span></p>\n</div>\n
LOCATION:Diplomat West Banquet Halls 681 West North Avenue Elmhurst\, IL 60126
UID:e.333.4216
SEQUENCE:3
DTSTAMP:20260425T173915Z
URL:https://chambermaster.elmhurstchamber.org/events/details/elmhurst-symphony-annual-dinner-celebration-06-07-2011-4216
END:VEVENT

END:VCALENDAR
