BEGIN:VCALENDAR
VERSION:2.0
PRODID:-//ChamberMaster//Event Calendar 2.0//EN
METHOD:PUBLISH
X-PUBLISHED-TTL:P3D
REFRESH-INTERVAL:P3D
CALSCALE:GREGORIAN
BEGIN:VEVENT
DTSTART:20110529T200000Z
DTEND:20110529T220000Z
X-MICROSOFT-CDO-ALLDAYEVENT:FALSE
SUMMARY:Elmhurst Symphony Orchestra at Mayslake
DESCRIPTION:Elmhurst Symphony Orchestra concertmaster Rika Seko and ESO Music Director Stephen Alltop will present "Violin Romance" at Mayslake Peabody Estate in Oak Brook.  This final concert in the Elmhurst Symphony Musicians at Mayslake Series displays the violinist's soulful tone in virtuoso works by Dvorak\, Sarasate\, Wieniawski\, Vitali and Leclair.  Pianist Stephen Alltop will accompany Ms. Seko and offer commentary on the selections. \n\n\n\nFor more information and to register go to www.elmhurstsymphony.org/Content/OutingsEvents.aspx
X-ALT-DESC;FMTTYPE=text/html:Elmhurst Symphony Orchestra concertmaster Rika Seko and ESO Music Director Stephen Alltop will present &quot\;Violin Romance&quot\; at Mayslake Peabody Estate in Oak Brook.&nbsp\; This final concert in the Elmhurst Symphony Musicians at Mayslake Series displays the violinist&#39\;s soulful tone in virtuoso works by Dvorak\, Sarasate\, Wieniawski\, Vitali and Leclair.&nbsp\; Pianist Stephen Alltop will accompany Ms. Seko and offer commentary on the selections.&nbsp\;<br />\n<br />\nFor more information and to register go to <a href="http://www.elmhurstsymphony.org/Content/OutingsEvents.aspx">www.elmhurstsymphony.org/Content/OutingsEvents.aspx</a><br />\n
LOCATION:Mayslake Peabody Estate 1717 W. 31st Street Oak Brook\, IL
UID:e.333.4205
SEQUENCE:3
DTSTAMP:20260425T192216Z
URL:https://chambermaster.elmhurstchamber.org/events/details/elmhurst-symphony-orchestra-at-mayslake-05-29-2011-4205
END:VEVENT

END:VCALENDAR
