BEGIN:VCALENDAR
VERSION:2.0
PRODID:-//ChamberMaster//Event Calendar 2.0//EN
METHOD:PUBLISH
X-PUBLISHED-TTL:P3D
REFRESH-INTERVAL:P3D
CALSCALE:GREGORIAN
BEGIN:VEVENT
DTSTART:20130413T193000Z
DTEND:20130413T210000Z
X-MICROSOFT-CDO-ALLDAYEVENT:FALSE
SUMMARY:Elmhurst Symphony Orchestra Chamber Series
DESCRIPTION:The Elmhurst Symphony Orchestra Chamber Series at Mayslake presents its third concert of the season\, "Baroque Glories\," at 2:30 pm on Saturday\, April 13\, 2013\, at Mayslake Peabody Estate\, 1717 31st St. in Oak Brook.  This concert offers a not-to-be-missed opportunity to hear renowned Dutch soprano Josefien Stoppelenburg in Handel's brilliant Gloria.  Re-discovered in the year 2000\, this showpiece includes some of the composer's most virtuosic coloratura passages.  This wonderful afternoon of Baroque music also features Rika Seko\, violin\, Katherine Carter\, violin\, Stephen Alltop\, harpsichord\, and musicians of the Elmhurst Symphony\, and includes Handel's lovely German arias and favorites such as Haydn's Concerto for Violin and Harpsichord
X-ALT-DESC;FMTTYPE=text/html:The Elmhurst Symphony Orchestra Chamber Series at Mayslake presents its third concert of the season\, &ldquo\;Baroque Glories\,&rdquo\; at <ns0:time ns1:hour="14" ns1:minute="30">2:30 pm</ns0:time> on <ns0:date ns1:day="13" ns1:month="4" ns1:year="2013">Saturday\, <ns0:date ns1:day="13" ns1:ls="trans" ns1:month="4" ns1:year="2013">April 13\, 2013</ns0:date></ns0:date>\, at Mayslake Peabody Estate\, <ns0:street>1717 31<sup>st</sup> St.</ns0:street> in Oak Brook.&nbsp\; This concert offers a not-to-be-missed opportunity to hear renowned Dutch soprano Josefien Stoppelenburg in Handel&rsquo\;s brilliant <i>Gloria</i>.&nbsp\; Re-discovered in the year 2000\, this showpiece includes some of the composer&rsquo\;s most virtuosic coloratura passages.&nbsp\; This wonderful afternoon of Baroque music also features Rika Seko\, violin\, Katherine Carter\, violin\, Stephen Alltop\, harpsichord\, and musicians of the Elmhurst Symphony\, and includes Handel&rsquo\;s lovely German arias and favorites such as Haydn&rsquo\;s <i>Concerto for Violin and Harpsichord</i>
LOCATION:Mayslake Peadboy Estate 1717 31st St. Oak Brook\, IL 60521
UID:e.333.5251
SEQUENCE:3
DTSTAMP:20260422T194233Z
URL:https://chambermaster.elmhurstchamber.org/events/details/elmhurst-symphony-orchestra-chamber-series-04-13-2013-5251
END:VEVENT

END:VCALENDAR
