BEGIN:VCALENDAR
VERSION:2.0
PRODID:-//ChamberMaster//Event Calendar 2.0//EN
METHOD:PUBLISH
X-PUBLISHED-TTL:P3D
REFRESH-INTERVAL:P3D
CALSCALE:GREGORIAN
BEGIN:VEVENT
DTSTART:20111120T013000Z
DTEND:20111120T033000Z
X-MICROSOFT-CDO-ALLDAYEVENT:FALSE
SUMMARY:Elmhurst Symphony Orchestra presents "A Planetary Excursion"
DESCRIPTION:A blockbuster concert of galatic proportions!  The Elmhurst Symphony Orchestra performs The Planets by Gustav Holst\, and Star Wars Suite by John Williams.  With special guests NASA austronaut Dan Tani and Elmhurst College Women's Choir.
X-ALT-DESC;FMTTYPE=text/html:A blockbuster concert of galatic proportions!&nbsp\; The Elmhurst Symphony Orchestra performs The Planets by Gustav Holst\, and Star Wars Suite by John Williams.&nbsp\; With special guests NASA austronaut Dan Tani and Elmhurst College Women&#39\;s Choir.
LOCATION:Glenbard East High School\, Lombard
UID:e.333.4587
SEQUENCE:3
DTSTAMP:20260425T102531Z
URL:https://chambermaster.elmhurstchamber.org/events/details/elmhurst-symphony-orchestra-presents-a-planetary-excursion-11-19-2011-4587
END:VEVENT

END:VCALENDAR
