BEGIN:VCALENDAR
VERSION:2.0
PRODID:-//ChamberMaster//Event Calendar 2.0//EN
METHOD:PUBLISH
X-PUBLISHED-TTL:P3D
REFRESH-INTERVAL:P3D
CALSCALE:GREGORIAN
BEGIN:VEVENT
DTSTART:20120504T003000Z
DTEND:20120504T020000Z
X-MICROSOFT-CDO-ALLDAYEVENT:FALSE
SUMMARY:Elmhurst Symphony Orchestra Presents "Strings\, Swing\, and Gershwin"
DESCRIPTION:The ESO ensemble will show that strings can swing\, too\, when its members perform their own lush and bluesy interpretations of favorites by George Gershwin and Edward "Duke" Ellington.  The group will play up-beat tunes such as "It Ain't Necessarily So" and "Take the 'A' Train" and some memorable ballads like "Summertime" and "Solitude\," along with colorful commentary to add to your enjoyment.  This concert will have you tripping down memory lane as you tap your toes and try to resist singing along with these catchy jazz standards.  Tickets are $25 for adults\, $20 for groups of 10 or more\, and $7 for students.  Please call the ESO Box Office at 630-941-0202 for tickets and information.
X-ALT-DESC;FMTTYPE=text/html:<font size="3"><font face="Times New Roman"><span style="COLOR: black">The ESO ensemble will show that strings can swing\, too\, when its members perform their own lush and bluesy interpretations of favorites by George Gershwin and Edward &ldquo\;Duke&rdquo\; Ellington.&nbsp\; The group will play up-beat tunes such as &ldquo\;It Ain&rsquo\;t Necessarily So&rdquo\; and &ldquo\;Take the &lsquo\;A&rsquo\; Train&rdquo\; and some memorable ballads like &ldquo\;Summertime&rdquo\; and &ldquo\;Solitude\,&rdquo\; along with colorful commentary to add to your enjoyment.&nbsp\; This concert will have you tripping down memory lane as you tap your toes and try to resist singing along with these catchy jazz standards.&nbsp\; Tickets are $25 for adults\, $20 for groups of 10 or more\, and $7 for students.&nbsp\; Please call the ESO Box Office at </span><st1:phone o_x003a_ls="trans" phonenumber="$6941$$$"><span style="COLOR: black">630-941-0202</span></st1:phone><span style="COLOR: black"> for tickets and information.<o:p></o:p></span></font></font>
LOCATION:Mayslake Peabody Estate at 1717 W 31st Street in Oak Brook
UID:e.333.4821
SEQUENCE:3
DTSTAMP:20260425T021813Z
URL:https://chambermaster.elmhurstchamber.org/events/details/elmhurst-symphony-orchestra-presents-strings-swing-and-gershwin-05-03-2012-4821
END:VEVENT

END:VCALENDAR
