BEGIN:VCALENDAR
VERSION:2.0
PRODID:-//ChamberMaster//Event Calendar 2.0//EN
METHOD:PUBLISH
X-PUBLISHED-TTL:P3D
REFRESH-INTERVAL:P3D
CALSCALE:GREGORIAN
BEGIN:VEVENT
DTSTART:20120513T000000Z
DTEND:20120513T020000Z
X-MICROSOFT-CDO-ALLDAYEVENT:FALSE
SUMMARY:Elmhurst Symphony Orchestra's Season Finale
DESCRIPTION:Three gems of the orchestral repertoire will conclude the Elmhurst Symphony's 51st season in a wonderful way.\n\nFeaturing pianist Inna Faliks\n\n\n\nHebrides Overture.....Felix Mendelssohn\n\nPiano Concerto No. 1 in D-flat Major.....Sergi Prokofiev\n\nSymphonie Fantastique.....Hector Berlioz
X-ALT-DESC;FMTTYPE=text/html:Three gems of the orchestral repertoire will conclude the Elmhurst Symphony&#39\;s 51st season in a wonderful way.<br />\nFeaturing pianist Inna Faliks<br />\n<br />\nHebrides Overture.....Felix Mendelssohn<br />\nPiano Concerto No. 1 in D-flat Major.....Sergi Prokofiev<br />\nSymphonie Fantastique.....Hector Berlioz
LOCATION:Elmhurst Christian Reformed Church
UID:e.333.4716
SEQUENCE:3
DTSTAMP:20260425T004003Z
URL:https://chambermaster.elmhurstchamber.org/events/details/elmhurst-symphony-orchestra-s-season-finale-05-12-2012-4716
END:VEVENT

END:VCALENDAR
