BEGIN:VCALENDAR
VERSION:2.0
PRODID:-//ChamberMaster//Event Calendar 2.0//EN
METHOD:PUBLISH
X-PUBLISHED-TTL:P3D
REFRESH-INTERVAL:P3D
CALSCALE:GREGORIAN
BEGIN:VEVENT
DTSTART:20130623T010000Z
DTEND:20130623T030000Z
X-MICROSOFT-CDO-ALLDAYEVENT:FALSE
SUMMARY:Elmhurst Symphony Presents: Brass Bonanza
DESCRIPTION:Join the Elmhurst Symphony for a festive evening of music-making at Cantigny Park on Saturday\, June 22\, at 8:00 p.m. when the brass and percussion of the Symphony present "Brass Bonanza\," featuring music by composers ranging from Elgar to Copland\, Sousa\, Mancini and Gershwin.  Under the direction of Music Director and Conductor Stephen Alltop\, this stellar group of musicians will thrill the audience with fanfares\, English and Irish folk songs\, music from the movies\, marches and old favorites.  You will leave the concert humming familiar tunes with your spirits lifted!  Concerts are on the lawn\, so be sure to bring lawn chairs and refreshments.\n\n \n\nCantigny Park is located at 1S151 Winfield Road in Wheaton.  Tickets for members are $10 in advance\, $15 at the door\; non-members $12 in advance\, $18 at the door.  Children under 8 are admitted free. Call 630-260-8162 or visit www.cantigny.org/events
X-ALT-DESC;FMTTYPE=text/html:Join the Elmhurst Symphony for a festive evening of music-making at Cantigny Park on Saturday\, June 22\, at 8:00 p.m. when the brass and percussion of the Symphony present &ldquo\;Brass Bonanza\,&rdquo\; featuring music by composers ranging from Elgar to Copland\, Sousa\, Mancini and Gershwin.&nbsp\; Under the direction of Music Director and Conductor Stephen Alltop\, this stellar group of musicians will thrill the audience with fanfares\, English and Irish folk songs\, music from the movies\, marches and old favorites.&nbsp\; You will leave the concert humming familiar tunes with your spirits lifted!&nbsp\; Concerts are on the lawn\, so be sure to bring lawn chairs and refreshments.<br />\n&nbsp\;<br />\nCantigny Park is located at 1S151 Winfield Road in Wheaton.&nbsp\; Tickets for members are $10 in advance\, $15 at the door\; non-members $12 in advance\, $18 at the door. &nbsp\;Children under 8 are admitted free. Call 630-260-8162 or visit <a href="http://www.cantigny.org/events" target="_blank" title="http://www.cantigny.org/events"><span style="color:purple\;">www.cantigny.org/events</span></a><br />\n
LOCATION:
UID:e.333.5322
SEQUENCE:3
DTSTAMP:20260422T163941Z
URL:https://chambermaster.elmhurstchamber.org/events/details/elmhurst-symphony-presents-brass-bonanza-06-22-2013-5322
END:VEVENT

END:VCALENDAR
