BEGIN:VCALENDAR
VERSION:2.0
PRODID:-//ChamberMaster//Event Calendar 2.0//EN
METHOD:PUBLISH
X-PUBLISHED-TTL:P3D
REFRESH-INTERVAL:P3D
CALSCALE:GREGORIAN
BEGIN:VEVENT
DTSTART:20220301T163000Z
DTEND:20220301T190000Z
X-MICROSOFT-CDO-ALLDAYEVENT:FALSE
SUMMARY:Elmhurst University's In Person Career Fair
DESCRIPTION:We would like to invite you to participate in Elmhurst University's Spring Career Fair! Please reserve your spot as soon as possible as tables are limited at our in person fair. https://app.joinhandshake.com/edu/career_fairs/29853
X-ALT-DESC;FMTTYPE=text/html:We would like to invite you to participate in Elmhurst University&#39\;s Spring Career Fair! Please reserve your spot as soon as possible as tables are limited at our in person fair. https://app.joinhandshake.com/edu/career_fairs/29853
LOCATION:Elmhurst University Frick Center Building\, founders Lounge 190 Prospect Ave Elmhurst\, IL 60126
UID:e.333.16265
SEQUENCE:3
DTSTAMP:20260425T205431Z
URL:https://chambermaster.elmhurstchamber.org/events/details/elmhurst-university-s-in-person-career-fair-16265
END:VEVENT

END:VCALENDAR
