BEGIN:VCALENDAR
VERSION:2.0
PRODID:-//ChamberMaster//Event Calendar 2.0//EN
METHOD:PUBLISH
X-PUBLISHED-TTL:P3D
REFRESH-INTERVAL:P3D
CALSCALE:GREGORIAN
BEGIN:VEVENT
DTSTART;VALUE=DATE:20120810
DTEND;VALUE=DATE:20120813
TRANSP:TRANSPARENT
X-MICROSOFT-CDO-ALLDAYEVENT:TRUE
SUMMARY:Elmhurst YMCA & People for Elmhurst Parks Foundation Softball Tournament
DESCRIPTION:Charity Softball Game\n\n Get your bats and gloves out and prepare to compete for a cause! Enjoy playing softball while raising money for the YMCA of Elmhurst and the People for Elmhurst Parks Foundation. The tournament will take place August 10-12 at Berens Park. \n\nIn addition to the softball games families can use the batting cages\, mini golf and spray ground all located at The Hub at Berens Park
X-ALT-DESC;FMTTYPE=text/html:<span style="font-size:14px\;"><b>Charity Softball Game</b></span><br />\n&nbsp\;Get your bats and gloves out and prepare to compete for a cause! Enjoy playing softball while raising money for the YMCA of Elmhurst and the People for Elmhurst Parks Foundation. The tournament will take place August 10-12 at Berens Park.&nbsp\;<br />\nIn addition to the softball games families can use the batting cages\, mini golf and spray ground all located at The Hub at Berens Park<br />\n<br />\n<br />\n<br />\n
LOCATION:The Hub at Berens Park.
UID:e.333.4870
SEQUENCE:3
DTSTAMP:20260424T194053Z
URL:https://chambermaster.elmhurstchamber.org/events/details/elmhurst-ymca-people-for-elmhurst-parks-foundation-softball-tournament-08-10-2012-4870
END:VEVENT

END:VCALENDAR
