BEGIN:VCALENDAR
VERSION:2.0
PRODID:-//ChamberMaster//Event Calendar 2.0//EN
METHOD:PUBLISH
X-PUBLISHED-TTL:P3D
REFRESH-INTERVAL:P3D
CALSCALE:GREGORIAN
BEGIN:VEVENT
DTSTART:20130816T000000Z
DTEND:20130816T030000Z
X-MICROSOFT-CDO-ALLDAYEVENT:FALSE
SUMMARY:ENNC Kickoff Party Open to Past\, Present & Prospective Members
DESCRIPTION:The Elmhurst Newcomers and Neighbors Club (ENNC) will host the annual kickoff party at Caf  Amano in downtown Elmhurst on Thursday\, August 15th at 7 p.m.  ENNC welcomes area women\, both long-time residents and newcomers\, to learn more about this social club\, sign up for interest groups and enjoy complimentary hors d' oeuvres\, desserts and a cash bar.\n\n	 \n\n	The nonprofit club for women offers social nights out\, special events for couples and families along with interest groups to join such as Gourmet Club\, 5k Club\, Book Club\, Playgroups\, Chick Flicks Movie Group\, Progressive Euchre\, KidStuff\, Bunco and more.  "Our enthusiastic and energetic Board is hard at work planning a fun and diverse calendar of activities for our members and their families.  ENNC offers something for everyone".   Anne Zimmer\, ENNC President.\n\n	ENNC continues to grow their membership every year.  "With nearly 45% of our membership being new to the Elmhurst area\, ENNC is truly a balanced blend of newcomers and neighbors alike".  \n\n	ENNC Kickoff Party\n\n	Thursday\, August 15th 7 p.m.\n\n	Caf  Amano\n\n	105 South York Street\n\n	Elmhurst\, IL 60126\n\n	 \n\n	More information about ENNC\, including its online calendar and information about membership\, can be found at www.ennc.org.
X-ALT-DESC;FMTTYPE=text/html:<p class="MsoNoSpacing" style="margin: 0in 0in 0pt\;">\n	<span style="font-size: 12pt\;"><font face="Calibri"><font color="#000000">The Elmhurst Newcomers and Neighbors Club (ENNC) will host the annual kickoff party at Caf&eacute\; Amano in downtown Elmhurst on Thursday\, August 15<sup>th</sup> at 7 p.m.<span style="mso-spacerun: yes\;">&nbsp\; </span>ENNC welcomes area women\, both long-time residents and newcomers\, to learn more about this social club\, sign up for interest groups and enjoy complimentary hors d&rsquo\; oeuvres\, desserts and a cash bar.<o:p></o:p></font></font></span></p>\n<p class="MsoNoSpacing" style="margin: 0in 0in 0pt\;">\n	<span style="font-size: 12pt\;"><o:p><font color="#000000" face="Calibri">&nbsp\;</font></o:p></span></p>\n<p class="MsoNormal" style="background: white\; margin: 0in 0in 10pt\;">\n	<span style="line-height: 115%\; font-size: 12pt\;"><font face="Calibri"><font color="#000000">The nonprofit club for women offers social nights out\, special events for couples and families along with interest groups to join such as Gourmet Club\, 5k Club\, Book Club\, Playgroups\, Chick Flicks Movie Group\, Progressive Euchre\, KidStuff\, Bunco and more.<span style="mso-spacerun: yes\;">&nbsp\; </span>&ldquo\;Our enthusiastic and energetic Board is hard at work planning a fun and diverse calendar of activities for our members and their families.<span style="mso-spacerun: yes\;">&nbsp\; </span>ENNC offers something for everyone&rdquo\;. &ndash\; Anne Zimmer\, ENNC President.<o:p></o:p></font></font></span></p>\n<p class="MsoNormal" style="background: white\; margin: 0in 0in 10pt\;">\n	<span style="line-height: 115%\; font-size: 12pt\;"><font color="#000000"><font face="Calibri">ENNC continues to grow their membership every year.<span style="mso-spacerun: yes\;">&nbsp\; </span>&ldquo\;With nearly 45% of our membership being new to the Elmhurst area\, ENNC is truly a balanced blend of newcomers and neighbors alike&rdquo\;.<span style="mso-spacerun: yes\;">&nbsp\; </span><o:p></o:p></font></font></span></p>\n<p align="center" class="MsoNoSpacing" style="margin: 0in 0in 0pt\; text-align: center\;">\n	<b style="mso-bidi-font-weight: normal\;"><span style="font-size: 12pt\;"><font color="#000000"><font face="Calibri">ENNC Kickoff Party<o:p></o:p></font></font></span></b></p>\n<p align="center" class="MsoNoSpacing" style="margin: 0in 0in 0pt\; text-align: center\;">\n	<b style="mso-bidi-font-weight: normal\;"><span style="font-size: 12pt\;"><font face="Calibri"><font color="#000000">Thursday\, August 15<sup>th</sup> 7 p.m.</font></font></span></b></p>\n<p align="center" class="MsoNoSpacing" style="margin: 0in 0in 0pt\; text-align: center\;">\n	<b style="mso-bidi-font-weight: normal\;"><span style="font-size: 12pt\;"><font color="#000000"><font face="Calibri">Caf&eacute\; Amano</font></font></span></b></p>\n<p align="center" class="MsoNoSpacing" style="margin: 0in 0in 0pt\; text-align: center\;">\n	<b style="mso-bidi-font-weight: normal\;"><span style="font-size: 12pt\;"><font color="#000000"><font face="Calibri">105 South York Street<o:p></o:p></font></font></span></b></p>\n<p align="center" class="MsoNoSpacing" style="margin: 0in 0in 0pt\; text-align: center\;">\n	<b style="mso-bidi-font-weight: normal\;"><span style="font-size: 12pt\;"><font color="#000000"><font face="Calibri">Elmhurst\, IL 60126<o:p></o:p></font></font></span></b></p>\n<p align="center" class="MsoNoSpacing" style="margin: 0in 0in 0pt\; text-align: center\;">\n	<b style="mso-bidi-font-weight: normal\;"><span style="font-size: 12pt\;"><o:p><font color="#000000" face="Calibri">&nbsp\;</font></o:p></span></b></p>\n<p class="MsoNoSpacing" style="margin: 0in 0in 0pt\;">\n	<span style="font-size: 12pt\;"><font color="#000000" face="Calibri">More information about ENNC\, including its online calendar and information about membership\, can be found at </font></span><a href="http://www.ennc.org/"><a href="http://www.ennc.org/"><span style="font-size: 12pt\;"><font color="#0000ff" face="Calibri">www.ennc.org</font></span></a></a><span style="font-size: 12pt\;"><font color="#000000"><font face="Calibri">. <o:p></o:p></font></font></span></p>\n<p class="MsoNormal" style="background: white\; margin: 0in 0in 10pt\;">\n	<span style="color: black\; line-height: 115%\; font-family: &quot\;Segoe UI&quot\;\,&quot\;sans-serif&quot\;\; font-size: 10.5pt\; mso-fareast-font-family: &quot\;Times New Roman&quot\;\;"><o:p>&nbsp\;</o:p></span></p>\n<p class="MsoNormal" style="background: white\; margin: 0in 0in 10pt\; line-height: normal\;">\n	<span style="color: black\; font-family: &quot\;Segoe UI&quot\;\,&quot\;sans-serif&quot\;\; font-size: 10.5pt\; mso-fareast-font-family: &quot\;Times New Roman&quot\;\;"><o:p>&nbsp\;</o:p></span></p>\n<p class="MsoNoSpacing" style="margin: 0in 0in 0pt\;">\n	<span style="font-size: 12pt\;"><o:p><font color="#000000" face="Calibri">&nbsp\;</font></o:p></span></p>\n
LOCATION:Cafe Amano
UID:e.333.5579
SEQUENCE:3
DTSTAMP:20260422T133555Z
URL:https://chambermaster.elmhurstchamber.org/events/details/ennc-kickoff-party-open-to-past-present-prospective-members-08-15-2013-5579
END:VEVENT

END:VCALENDAR
