BEGIN:VCALENDAR
VERSION:2.0
PRODID:-//ChamberMaster//Event Calendar 2.0//EN
METHOD:PUBLISH
X-PUBLISHED-TTL:P3D
REFRESH-INTERVAL:P3D
CALSCALE:GREGORIAN
BEGIN:VEVENT
DTSTART:20130504T200000Z
DTEND:20130504T230000Z
X-MICROSOFT-CDO-ALLDAYEVENT:FALSE
SUMMARY:ENNC Spring Fundraiser to benefit Special Kids Day
DESCRIPTION:Don your fanciest hat and root for your favorite pony!  The Elmhurst Newcomers and Neighbors Club (ENNC) is hosting a Kentucky Derby-themed fundraiser to benefit Special Kids Day\, an Elmhurst based organization that provides opportunities to children with special needs.
X-ALT-DESC;FMTTYPE=text/html:Don your fanciest hat and root for your favorite pony!&nbsp\; The Elmhurst Newcomers and Neighbors Club (ENNC) is hosting a Kentucky Derby-themed fundraiser to benefit Special Kids Day\, an Elmhurst based organization that provides opportunities to children with special needs.
LOCATION:Flight 112 Wine House 112 West Park Avenue\, Elmhurst
UID:e.333.5256
SEQUENCE:3
DTSTAMP:20260422T180757Z
URL:https://chambermaster.elmhurstchamber.org/events/details/ennc-spring-fundraiser-to-benefit-special-kids-day-05-04-2013-5256
END:VEVENT

END:VCALENDAR
