BEGIN:VCALENDAR
VERSION:2.0
PRODID:-//ChamberMaster//Event Calendar 2.0//EN
METHOD:PUBLISH
X-PUBLISHED-TTL:P3D
REFRESH-INTERVAL:P3D
CALSCALE:GREGORIAN
BEGIN:VEVENT
DTSTART;VALUE=DATE:20131023
DTEND;VALUE=DATE:20131027
TRANSP:TRANSPARENT
X-MICROSOFT-CDO-ALLDAYEVENT:TRUE
SUMMARY:Environmental Medicine meeting
DESCRIPTION:If you are a medical doctor\, naturopath\, chiropractor\, or other health care professional\, you should attend the American Academy of Environmentl Medicine meeting in October in Phoenix\, AZ.\n\nFor details on the educational benefits\, exact times\, and topics that will be covered go to:\n\nwww.aaemonline.org\n\nE. L. Foust Co.\, Inc. of Elmhurst\, IL will be showing our air purifiers and other environmentally safe products at this meeting also.
X-ALT-DESC;FMTTYPE=text/html:If you are a medical doctor\, naturopath\, chiropractor\, or other health care professional\, you should attend the American Academy of Environmentl Medicine meeting in October in Phoenix\, AZ.<br />\nFor details on the educational benefits\, exact times\, and topics that will be covered go to:<br />\n<a href="http://www.aaemonline.org">www.aaemonline.org</a><br />\nE. L. Foust Co.\, Inc. of Elmhurst\, IL will be showing our air purifiers and other environmentally safe products at this meeting also.
LOCATION:See www.aaemonline.org for details 316-684-5500
UID:e.333.5625
SEQUENCE:3
DTSTAMP:20260422T111808Z
URL:https://chambermaster.elmhurstchamber.org/events/details/environmental-medicine-meeting-10-23-2013-5625
END:VEVENT

END:VCALENDAR
