BEGIN:VCALENDAR
VERSION:2.0
PRODID:-//ChamberMaster//Event Calendar 2.0//EN
METHOD:PUBLISH
X-PUBLISHED-TTL:P3D
REFRESH-INTERVAL:P3D
CALSCALE:GREGORIAN
BEGIN:VEVENT
DTSTART:20110618T140000Z
DTEND:20110618T190000Z
X-MICROSOFT-CDO-ALLDAYEVENT:FALSE
SUMMARY:Ernie's Automotive 3rd Annual Car Show
DESCRIPTION:Bring your muscle car\, antique car\, classic car or street rod!\n\n\n\nFUN FOR THE WHOLE FAMILY! \n\n\n\nTROPHIES\, RAFFLES\, FOOD AND BEVERAGES!\n\n\n\nMusic provided by:\n\nFlashback 50's DJ - TONY ADELFIO -  with his  '57 Chevy DJ Booth on wheels!\n\n\n\n$10 Registration fee (lunch included)
X-ALT-DESC;FMTTYPE=text/html:Bring your muscle car\, antique car\, classic car or street rod!<br />\n<br />\nFUN FOR THE WHOLE FAMILY!&nbsp\;<br />\n<br />\nTROPHIES\, RAFFLES\, FOOD AND BEVERAGES!<br />\n<br />\nMusic provided by:<br />\nFlashback 50&#39\;s DJ - TONY ADELFIO -&nbsp\;&nbsp\;with his&nbsp\; &#39\;57 Chevy DJ Booth on wheels!<br />\n<br />\n$10 Registration fee (lunch included)<br />\n&nbsp\;&nbsp\;
LOCATION:526 West Grand Ave.\, Elmhurst (across from Kellogg building)
UID:e.333.4233
SEQUENCE:3
DTSTAMP:20260425T174747Z
URL:https://chambermaster.elmhurstchamber.org/events/details/ernie-s-automotive-3rd-annual-car-show-06-18-2011-4233
END:VEVENT

END:VCALENDAR
