BEGIN:VCALENDAR
VERSION:2.0
PRODID:-//ChamberMaster//Event Calendar 2.0//EN
METHOD:PUBLISH
X-PUBLISHED-TTL:P3D
REFRESH-INTERVAL:P3D
CALSCALE:GREGORIAN
BEGIN:VEVENT
DTSTART:20110416T150000Z
DTEND:20110416T190000Z
X-MICROSOFT-CDO-ALLDAYEVENT:FALSE
SUMMARY:Event at Clearing Chaos\, L.L.C.
DESCRIPTION:Free home ownership training seminar!\n\nLearn about:\n\n* Locating YOUR new home\n\n* Avoiding money pits\n\n* Advantages of using an agent\n\n* Financial advantages\n\n* Negotiating in today's market\n\n* Obtaining pre-approval financing\n\n* Remodeling/Renovation to fit your needs\n\n* Wealth building through Real Estate\n\n* Save by moving only what you need and want
X-ALT-DESC;FMTTYPE=text/html:Free home ownership training seminar!<br />\nLearn about:<br />\n* Locating YOUR new home<br />\n* Avoiding money pits<br />\n* Advantages of using an agent<br />\n* Financial advantages<br />\n* Negotiating in today&#39\;s market<br />\n* Obtaining pre-approval financing<br />\n* Remodeling/Renovation to fit your needs<br />\n* Wealth building through Real Estate<br />\n* Save by moving only what you need and want
LOCATION:1000 Jorie Blvd\, Third Floor\, Oak Brook\, IL 60523
UID:e.333.4174
SEQUENCE:3
DTSTAMP:20260425T204824Z
URL:https://chambermaster.elmhurstchamber.org/events/details/event-at-clearing-chaos-l-l-c-04-16-2011-4174
END:VEVENT

END:VCALENDAR
