BEGIN:VCALENDAR
VERSION:2.0
PRODID:-//ChamberMaster//Event Calendar 2.0//EN
METHOD:PUBLISH
X-PUBLISHED-TTL:P3D
REFRESH-INTERVAL:P3D
CALSCALE:GREGORIAN
BEGIN:VEVENT
DTSTART:20120502T200000Z
DTEND:20120503T000000Z
X-MICROSOFT-CDO-ALLDAYEVENT:FALSE
SUMMARY:Event at Cuomo Catering & Essence of Elegance Catering
DESCRIPTION:You are Cordially Invited to Join Us on\n\n	Wednesday\, May 2\, 2012\n\n	from 3:00 to 7:00 p.m. for the\n\n	\n\n	Grand Opening of the New\n\n	Cuomo & Essence of Elegance Catering Facility\n\n	\n\n	--Million Dollar Renovation\n\n	--State of the Art Kitchen Facility\n\n	--Cocktails & Hors D'oeuvres\n\n	--Raffles and Giveaways\n\n	\n\n	Location:\n\n	23 East North Avenue\n\n	Northlake\, IL 60164\n\n	R.S.V.P. By April 25\, 2012\n\n	708-344-7312
X-ALT-DESC;FMTTYPE=text/html:<p style="text-align: center">\n	<span style="font-family: arial"><span style="font-size: 12px">You are Cordially Invited to Join Us on<br />\n	Wednesday\, May 2\, 2012<br />\n	from 3:00 to 7:00&nbsp\;p.m. for the<br />\n	<br />\n	<strong>Grand Opening of the New<br />\n	Cuomo&nbsp\;&amp\; Essence of Elegance Catering Facility</strong><br />\n	<br />\n	--Million Dollar Renovation<br />\n	--State of the Art Kitchen Facility<br />\n	--Cocktails &amp\; Hors D&#39\;oeuvres<br />\n	--Raffles and Giveaways</span><br />\n	<br />\n	<em><strong>Location:</strong></em><br />\n	23 East North Avenue<br />\n	Northlake\, IL 60164<br />\n	<strong>R.S.V.P. By April 25\, 2012<br />\n	708-344-7312</strong></span></p>\n
LOCATION:Cuomo & Essence of Elegance Catering
UID:e.333.4829
SEQUENCE:3
DTSTAMP:20260425T004132Z
URL:https://chambermaster.elmhurstchamber.org/events/details/event-at-cuomo-catering-essence-of-elegance-catering-05-02-2012-4829
END:VEVENT

END:VCALENDAR
