BEGIN:VCALENDAR
VERSION:2.0
PRODID:-//ChamberMaster//Event Calendar 2.0//EN
METHOD:PUBLISH
X-PUBLISHED-TTL:P3D
REFRESH-INTERVAL:P3D
CALSCALE:GREGORIAN
BEGIN:VEVENT
DTSTART:20101126T120000Z
DTEND:20101126T153000Z
X-MICROSOFT-CDO-ALLDAYEVENT:FALSE
SUMMARY:Event at Fleet Feet Sports
DESCRIPTION:Black Friday at Fleet Feet Sports Elmhurst\n\n\n\nCome get served pancakes by your favorite Fleet Feet staff members and get HUGE deals on select shoes and apparel. \n\n\n\nSHOE SALES:\n\nBuy 1 Pair - $65\n\nBuy 2 Pair - $110\n\nBuy 3 Pair - $135\n\n\n\nSale lasts from 6 AM to 9:30 AM\, November 26th.\n\n Get here while the deals and pancakes are hot!
X-ALT-DESC;FMTTYPE=text/html:Black Friday at Fleet Feet Sports Elmhurst\n<br>\n<br>Come get served pancakes by your favorite Fleet Feet staff members and get HUGE deals on select shoes and apparel. \n<br>\n<br>SHOE SALES:\n<br>Buy 1 Pair - $65\n<br>Buy 2 Pair - $110\n<br>Buy 3 Pair - $135\n<br>\n<br>Sale lasts from 6 AM to 9:30 AM\, November 26th.\n<br> Get here while the deals and pancakes are hot!
LOCATION:Fleet Feet Sports 124 E. Schiller Street Elmhurst\, IL 60126
UID:e.333.3527
SEQUENCE:3
DTSTAMP:20260426T043011Z
URL:https://chambermaster.elmhurstchamber.org/events/details/event-at-fleet-feet-sports-11-26-2010-3527
END:VEVENT

END:VCALENDAR
