BEGIN:VCALENDAR
VERSION:2.0
PRODID:-//ChamberMaster//Event Calendar 2.0//EN
METHOD:PUBLISH
X-PUBLISHED-TTL:P3D
REFRESH-INTERVAL:P3D
CALSCALE:GREGORIAN
BEGIN:VEVENT
DTSTART;VALUE=DATE:20110125
DTEND;VALUE=DATE:20110126
TRANSP:TRANSPARENT
X-MICROSOFT-CDO-ALLDAYEVENT:TRUE
SUMMARY:Event at HealthSource Chiropractic & Progressive Rehab of Elmhurst
DESCRIPTION:Weight Loss Seminar includes a Free dinner and information on how to loss weight effectively. Seminar will be held on January 25\, 2011 and also on February 1\,2011.\n\n\n\nPlease R.S.V.P. to Maija due to dinner being served
X-ALT-DESC;FMTTYPE=text/html:Weight Loss Seminar includes a Free dinner and information on how to loss weight effectively. Seminar will be held on January 25\, 2011 and also on February 1\,2011.<br />\n<br />\nPlease R.S.V.P. to Maija due to dinner being served
LOCATION:HealthSource of Elmhurst 565 N. York St. Elmhurst\, IL 60126
UID:e.333.3706
SEQUENCE:3
DTSTAMP:20260426T011349Z
URL:https://chambermaster.elmhurstchamber.org/events/details/event-at-healthsource-chiropractic-progressive-rehab-of-elmhurst-01-25-2011-3706
END:VEVENT

END:VCALENDAR
