BEGIN:VCALENDAR
VERSION:2.0
PRODID:-//ChamberMaster//Event Calendar 2.0//EN
METHOD:PUBLISH
X-PUBLISHED-TTL:P3D
REFRESH-INTERVAL:P3D
CALSCALE:GREGORIAN
BEGIN:VEVENT
DTSTART:20110911T150000Z
DTEND:20110911T210000Z
X-MICROSOFT-CDO-ALLDAYEVENT:FALSE
SUMMARY:Event at Mullane Healy Godley Booster Club Irish Dance
DESCRIPTION:OPEN HOUSE!!!!!\n\n	\n\n	COME JOIN THE FUN AT MULLANE HEALY GODLEY IRISH DANCE ACADEMY\n\n	\n\n	COME WATCH THE MHG STAFF AND DANCERS IN ACTION. \n\n	\n\n	OBSERVE A CLASS AND HAVE YOUR QUESTIONS ANSWERED BY THE TEACHING STAFF AT MHG\n\n	    COME DANCE FOR FREE!!!!!\n\n	 \n\n	As the start of the academic school year approaches many of you are still seeking out weekly activities to enroll your children in.  Have you ever considered IRISH DANCE?\n\n	\n\n	 Irish dance promotes discipline\, focus\, coordination\, stamina and fitness\, as well as creating friendships that span a lifetime.\n\n	\n\n	The Mullane Healy Godley Academy of Irish Dance (MHG)\, is one the most highly decorated and distinguished Irish dance institutions in the world.  With state of the art studios in Elmhurst\, Edison Park\, and Davenport\, IA\, we strive to provide our localities with the highest caliber of instruction in the art of Irish dance.  The staff at MHG are an international fusion of the most highly distinguished and reputed dance teachers in the field of Irish dance.  A school who has two full time faculty members who are both former world champion dancers\n\n	\n\n	To commence the new academic year of 2011-2012 we are offering a 50% discount for the first semester to all NEW families enrolling with the MHG.  We are also offering a 10% reduction to the year tuition (to be applied towards one child) to all current Mullane Healy Godley families who refer a new dancer/family to the school.\n\n	\n\n	Unlike other Irish dance schools we charge a nominal fee of $40 to join the Mullane Healy Godley Booster Club.  In return each dancer enjoys the following:\n\n	    - Numerous parties throughout the school year\, such as pool parties and Christmas parties\;\n\n	    - Travel stipends\;\n\n	    - Free school-owned class costumes\;\n\n	    - Tutoring from seasoned dancers and parents on how to feis and climb the ranks\;\n\n	    - Financial assistance and\n\n	    - Scholarships.\n\n	\n\n	ALL the teachers at MHG are family orientated and have full time professional careers\, who teach dance for the love and the passion\, and it is that love and passion that they all wish to pass and nurture onto the future generations of dancers.  \n\n	\n\n	Over the past year the school has won numerous prestigious titles such as Regional\, North American Nationals\, All-Scotland\, Great Britain\, All Ireland and World Championships titles.  \n\n	\n\n	We invite you to be part of our family\, and partake in the fun and tradition that is Irish Dance. For further information\, please visit our website http://www.mullanehealygodley.com or contact the teaching staff at info@mullanehealyobrien.com
X-ALT-DESC;FMTTYPE=text/html:<h1 style="text-align: center\;">\n	<span style="color:#ff0000\;"><span style="font-size: 26px\;"><strong>OPEN HOUSE!!!!!</strong></span></span><br />\n	<br />\n	<strong><span style="font-size:12px\;">COME JOIN THE FUN AT MULLANE HEALY GODLEY IRISH DANCE ACADEMY<br />\n	<br />\n	COME WATCH THE MHG STAFF AND DANCERS IN ACTION.&nbsp\;<br />\n	<br />\n	OBSERVE A CLASS AND HAVE YOUR QUESTIONS ANSWERED BY THE TEACHING STAFF AT MHG</span></strong></h1>\n<p style="text-align: center\;">\n	<strong><span style="font-size:12px\;">&nbsp\;&nbsp\;&nbsp\; COME DANCE FOR FREE!!!!!</span></strong></p>\n<p>\n	&nbsp\;<br />\n	<font size="4"><font face="Calibri\, Verdana\, Helvetica\, Arial"><span style="font-size:11pt">As the start of the academic school year approaches many of you are still seeking out weekly activities to enroll your children in. &nbsp\;Have you ever considered IRISH DANCE</span></font></font><font size="5"><font face="Times New Roman"><span style="font-size:12pt">?<br />\n	</span></font></font><br />\n	<font size="4"><font face="Calibri\, Verdana\, Helvetica\, Arial"><span style="font-size:11pt"> Irish dance promotes discipline\, focus\, coordination\, stamina and fitness\, as well as creating friendships that span a lifetime.<br />\n	<br />\n	The Mullane Healy Godley Academy of Irish Dance (MHG)\, is one the most highly decorated and distinguished Irish dance institutions in the world. &nbsp\;With state of the art studios in Elmhurst\, Edison Park\, and Davenport\, IA\, we strive to provide our localities with the highest caliber of instruction in the art of Irish dance. &nbsp\;The staff at MHG are an international fusion of the most highly distinguished and reputed dance teachers in the field of Irish dance. &nbsp\;A school who has two full time faculty members who are both former world champion dancers<br />\n	<br />\n	To commence the new academic year of 2011-2012 we are offering a 50% discount for the first semester to all NEW families enrolling with the MHG. &nbsp\;We are also offering a 10% reduction to the year tuition (to be applied towards one child) to all current Mullane Healy Godley families who refer a new dancer/family to the school.<br />\n	<br />\n	Unlike other Irish dance schools we charge a nominal fee of $40 to join the Mullane Healy Godley Booster Club. &nbsp\;In return each dancer enjoys the following:<br />\n	&nbsp\;&nbsp\;&nbsp\;&nbsp\;- Numerous parties throughout the school year\, such as pool parties and Christmas parties\;<br />\n	&nbsp\;&nbsp\;&nbsp\;&nbsp\;- Travel stipends\;<br />\n	&nbsp\;&nbsp\;&nbsp\;&nbsp\;- Free school-owned class costumes\;<br />\n	&nbsp\;&nbsp\;&nbsp\;&nbsp\;- Tutoring from seasoned dancers and parents on how to feis and climb the ranks\;<br />\n	&nbsp\;&nbsp\;&nbsp\;&nbsp\;- Financial assistance and<br />\n	&nbsp\;&nbsp\;&nbsp\;&nbsp\;- Scholarships.<br />\n	<br />\n	ALL the teachers at MHG are family orientated and have full time professional careers\, who teach dance for the love and the passion\, and it is that love and passion that they all wish to pass and nurture onto the future generations of dancers. &nbsp\;<br />\n	<br />\n	Over the past year the school has won numerous prestigious titles such as Regional\, North American Nationals\, All-Scotland\, Great Britain\, All Ireland and World Championships titles. &nbsp\;<br />\n	<br />\n	We invite you to be part of our family\, and partake in the fun and tradition that is Irish Dance. For further information\, please visit our website <u><a href="http://www.mullanehealygodley.com/">http://www.mullanehealygodley.com</a></u> or contact the teaching staff at <u>info@mullanehealyobrien.com<br />\n	</u></span></font></font></p>\n
LOCATION:Mullane Healy Godley Irish Dance Studio\, 420a North York Road\, Elmhurst\, IL 60126
UID:e.333.4272
SEQUENCE:3
DTSTAMP:20260425T132647Z
URL:https://chambermaster.elmhurstchamber.org/events/details/event-at-mullane-healy-godley-booster-club-irish-dance-09-11-2011-4272
END:VEVENT

END:VCALENDAR
