BEGIN:VCALENDAR
VERSION:2.0
PRODID:-//ChamberMaster//Event Calendar 2.0//EN
METHOD:PUBLISH
X-PUBLISHED-TTL:P3D
REFRESH-INTERVAL:P3D
CALSCALE:GREGORIAN
BEGIN:VEVENT
DTSTART:20101117T230000Z
DTEND:20101118T030000Z
X-MICROSOFT-CDO-ALLDAYEVENT:FALSE
SUMMARY:Event at Patriot Boxing & Fitness
DESCRIPTION:Grand Opening!\n\nCome celebrate with us as we mark the beginning of Patriot Boxing and Fitness Systems. Boxing/MMA/Kickboxing/Wrestling/Kids Classes/Personal Training/ Strength & Conditioning.\n\n\n\nSpecial Offers\, raffles\, giveaways\, and more\n\n\n\nAll classes are free so come ready to work out and see that getting an amazing work out is right in your neighborhood.
X-ALT-DESC;FMTTYPE=text/html:Grand Opening!\n<br>Come celebrate with us as we mark the beginning of Patriot Boxing and Fitness Systems. Boxing/MMA/Kickboxing/Wrestling/Kids Classes/Personal Training/ Strength &amp\; Conditioning.\n<br>\n<br>Special Offers\, raffles\, giveaways\, and more\n<br>\n<br>All classes are free so come ready to work out and see that getting an amazing work out is right in your neighborhood. 
LOCATION:Patriot Boxing and Fitness Systems 645 S. Rt. 83 Elmhurst 60126
UID:e.333.3528
SEQUENCE:3
DTSTAMP:20260426T043128Z
URL:https://chambermaster.elmhurstchamber.org/events/details/event-at-patriot-boxing-fitness-11-17-2010-3528
END:VEVENT

END:VCALENDAR
