BEGIN:VCALENDAR
VERSION:2.0
PRODID:-//ChamberMaster//Event Calendar 2.0//EN
METHOD:PUBLISH
X-PUBLISHED-TTL:P3D
REFRESH-INTERVAL:P3D
CALSCALE:GREGORIAN
BEGIN:VEVENT
DTSTART:20111004T130000Z
DTEND:20111004T143000Z
X-MICROSOFT-CDO-ALLDAYEVENT:FALSE
SUMMARY:Event at Principal Financial Group\, The
DESCRIPTION:"How to Finance in Today's Economy" seminar.  Network with fellow business owners while learning about how to invest in today's economy.
X-ALT-DESC;FMTTYPE=text/html:&quot\;How to Finance in Today&#39\;s Economy&quot\; seminar.&nbsp\; Network with fellow business owners while learning about how to invest in today&#39\;s economy.
LOCATION:3025 Highland Parkway\, Suite 400\, Downers Grove\, IL 60515
UID:e.333.4514
SEQUENCE:3
DTSTAMP:20260425T120326Z
URL:https://chambermaster.elmhurstchamber.org/events/details/event-at-principal-financial-group-the-10-04-2011-4514
END:VEVENT

END:VCALENDAR
