BEGIN:VCALENDAR
VERSION:2.0
PRODID:-//ChamberMaster//Event Calendar 2.0//EN
METHOD:PUBLISH
X-PUBLISHED-TTL:P3D
REFRESH-INTERVAL:P3D
CALSCALE:GREGORIAN
BEGIN:VEVENT
DTSTART;VALUE=DATE:20110715
DTEND;VALUE=DATE:20110716
TRANSP:TRANSPARENT
X-MICROSOFT-CDO-ALLDAYEVENT:TRUE
SUMMARY:Event at Remedy Intelligent Staffing
DESCRIPTION:Remedy Intellgent Staffing Job Fair\, grand opening\, and ribbon cutting ceremony.
X-ALT-DESC;FMTTYPE=text/html:Remedy Intellgent Staffing Job Fair\, grand opening\, and&nbsp\;ribbon cutting ceremony.
LOCATION:188 Industrial Dr. #133\, Elmhurst\, IL
UID:e.333.4253
SEQUENCE:3
DTSTAMP:20260425T161601Z
URL:https://chambermaster.elmhurstchamber.org/events/details/event-at-remedy-intelligent-staffing-07-15-2011-4253
END:VEVENT

END:VCALENDAR
