BEGIN:VCALENDAR
VERSION:2.0
PRODID:-//ChamberMaster//Event Calendar 2.0//EN
METHOD:PUBLISH
X-PUBLISHED-TTL:P3D
REFRESH-INTERVAL:P3D
CALSCALE:GREGORIAN
BEGIN:VEVENT
DTSTART:20120406T130000Z
DTEND:20120406T140000Z
X-MICROSOFT-CDO-ALLDAYEVENT:FALSE
SUMMARY:Executive Committee Meeting
DESCRIPTION:The Executive Committee will meet at the Chamber office at 8 a.m.
X-ALT-DESC;FMTTYPE=text/html:<div>The Executive Committee will meet at the Chamber office at 8 a.m.</div>\n
LOCATION:The Chamber office.
UID:e.333.4593
SEQUENCE:3
DTSTAMP:20260425T021738Z
URL:https://chambermaster.elmhurstchamber.org/events/details/executive-committee-meeting-04-06-2012-4593
END:VEVENT

END:VCALENDAR
