BEGIN:VCALENDAR
VERSION:2.0
PRODID:-//ChamberMaster//Event Calendar 2.0//EN
METHOD:PUBLISH
X-PUBLISHED-TTL:P3D
REFRESH-INTERVAL:P3D
CALSCALE:GREGORIAN
BEGIN:VEVENT
DTSTART:20121102T130000Z
DTEND:20121102T140000Z
X-MICROSOFT-CDO-ALLDAYEVENT:FALSE
SUMMARY:Executive Committee Meeting
DESCRIPTION:The Executive Committee will meet at the Chamber office at 8 a.m.
X-ALT-DESC;FMTTYPE=text/html:<div>The Executive Committee will meet at the Chamber office at 8 a.m.</div>\n
LOCATION:The Chamber office.
UID:e.333.4600
SEQUENCE:3
DTSTAMP:20260424T145358Z
URL:https://chambermaster.elmhurstchamber.org/events/details/executive-committee-meeting-11-02-2012-4600
END:VEVENT

END:VCALENDAR
