BEGIN:VCALENDAR
VERSION:2.0
PRODID:-//ChamberMaster//Event Calendar 2.0//EN
METHOD:PUBLISH
X-PUBLISHED-TTL:P3D
REFRESH-INTERVAL:P3D
CALSCALE:GREGORIAN
BEGIN:VEVENT
DTSTART:20110320T230000Z
DTEND:20110321T003000Z
X-MICROSOFT-CDO-ALLDAYEVENT:FALSE
SUMMARY:Faith CRC to host Dordt College Concert Band and Orchestra
DESCRIPTION:The Dordt College Concert Band and Orchestra from Sioux Center\, Iowa\, will present a concert at 6 p.m. worship service Sunday\, March 20\, at Faith Christian Reformed Church in Elmhurst.\n\nThis free concert is part of a music tour to seven states and one Canadian province. Performances are scheduled in Iowa\, Indiana\, New York\, Massachusetts\, New Jersey\, Michigan\, Illinois\, and Ontario\, Canada.\n\nThe 48-person band and 21-person orchestra will perform a variety of pieces under the direction of Bradley Miedema.
X-ALT-DESC;FMTTYPE=text/html:The Dordt College Concert Band and Orchestra from Sioux Center\, Iowa\, will present a concert at 6 p.m. worship service Sunday\, March 20\, at Faith Christian Reformed Church in Elmhurst.\n<br>This free concert is part of a music tour to seven states and one Canadian province. Performances are scheduled in Iowa\, Indiana\, New York\, Massachusetts\, New Jersey\, Michigan\, Illinois\, and Ontario\, Canada.\n<br>The 48-person band and 21-person orchestra will perform a variety of pieces under the direction of Bradley Miedema. 
LOCATION:Faith Christian Reformed Church 1070 S. Prospect Elmhurst\, IL 60126
UID:e.333.3875
SEQUENCE:3
DTSTAMP:20260425T222614Z
URL:https://chambermaster.elmhurstchamber.org/events/details/faith-crc-to-host-dordt-college-concert-band-and-orchestra-03-20-2011-3875
END:VEVENT

END:VCALENDAR
