BEGIN:VCALENDAR
VERSION:2.0
PRODID:-//ChamberMaster//Event Calendar 2.0//EN
METHOD:PUBLISH
X-PUBLISHED-TTL:P3D
REFRESH-INTERVAL:P3D
CALSCALE:GREGORIAN
BEGIN:VEVENT
DTSTART:20121109T010000Z
DTEND:20121109T030000Z
X-MICROSOFT-CDO-ALLDAYEVENT:FALSE
SUMMARY:Fall Open House @ 381 Shops to benefit Elmhurst Food Pantry
DESCRIPTION:Guests are requested to bring a non-perishable food item and tour all of 9 businesses to get entered to win spa days\, massages\, yoga sessions\, beauty services and more!\n\n	\n		Acupuncture with Roger Rutz\, L. Ac.\n	\n		Alter Ego Hair Design\n	\n		Blissed Out Yoga & Thai Bodywork\n	\n		Body+Soul Spa Retreat\n	\n		CR Embroidery\n	\n		Extremities Natural Nails\n	\n		Handle with Care\n	\n		Helping Hands Maid Service\n	\n		Jackie Wolfe\, LCSW\n	\n		Reiki with Theresa Pavlik\n\nA fun event for the whole family!
X-ALT-DESC;FMTTYPE=text/html:Guests are requested to bring a non-perishable food item and tour all of 9 businesses to get entered to win spa days\, massages\, yoga sessions\, beauty services and more!\n<ul>\n	<li>\n		Acupuncture with Roger Rutz\, L. Ac.</li>\n	<li>\n		Alter Ego Hair Design</li>\n	<li>\n		Blissed Out Yoga &amp\; Thai Bodywork</li>\n	<li>\n		Body+Soul Spa Retreat</li>\n	<li>\n		CR Embroidery</li>\n	<li>\n		Extremities Natural Nails</li>\n	<li>\n		Handle with Care</li>\n	<li>\n		Helping Hands Maid Service</li>\n	<li>\n		Jackie Wolfe\, LCSW</li>\n	<li>\n		Reiki with Theresa Pavlik</li>\n</ul>\nA fun event for the whole family!<br />\n<br />\n
LOCATION:
UID:e.333.5092
SEQUENCE:3
DTSTAMP:20260424T145717Z
URL:https://chambermaster.elmhurstchamber.org/events/details/fall-open-house-381-shops-to-benefit-elmhurst-food-pantry-11-08-2012-5092
END:VEVENT

END:VCALENDAR
