BEGIN:VCALENDAR
VERSION:2.0
PRODID:-//ChamberMaster//Event Calendar 2.0//EN
METHOD:PUBLISH
X-PUBLISHED-TTL:P3D
REFRESH-INTERVAL:P3D
CALSCALE:GREGORIAN
BEGIN:VEVENT
DTSTART:20130922T000000Z
DTEND:20130922T130000Z
X-MICROSOFT-CDO-ALLDAYEVENT:FALSE
SUMMARY:Family Campout
DESCRIPTION:Ages 3 and Older\n\n	Didn't get a chance to go camping this summer?  Load up the gear and head out to Eldridge Park.  We will be camping out under the stars on the west side of the park.  Each family will get its own plot to set up their tent.  We will have games\, activities\, campfire stories and s'mores.  In the morning\, we will have coffee\, juice\, donuts\, and bagels for breakfast.  Families will need to provide their own camping  equipment\; items are available for rent from REI Oakbrook.  Dinner will not be provided.
X-ALT-DESC;FMTTYPE=text/html:<p class="MsoNormal" style="margin: 0in 0in 0pt 0.1in\;">\n	<font color="#000000" face="Calibri" size="3">Ages 3 and Older</font></p>\n<p class="MsoNormal" style="margin: 0in 0in 0pt 0.1in\;">\n	<font size="3"><font color="#000000"><font face="Calibri">Didn&#39\;t get a chance to go camping this summer?<span style="mso-spacerun: yes\;">&nbsp\; </span>Load up the gear and head out to Eldridge Park.<span style="mso-spacerun: yes\;">&nbsp\; </span>We will be camping out under the stars on the west side of the park.<span style="mso-spacerun: yes\;">&nbsp\; </span>Each family will get its own plot to set up their tent.<span style="mso-spacerun: yes\;">&nbsp\; </span>We will have games\, activities\, campfire stories and s&rsquo\;mores.<span style="mso-spacerun: yes\;">&nbsp\; </span>In the morning\, we will have coffee\, juice\, donuts\, and bagels for breakfast.<span style="mso-spacerun: yes\;">&nbsp\; </span>Families will need to provide their own camping <span style="mso-spacerun: yes\;">&nbsp\;</span>equipment\; items are available for rent from REI Oakbrook.<span style="mso-spacerun: yes\;">&nbsp\; </span>Dinner will not be provided.<span style="mso-spacerun: yes\;">&nbsp\; </span></font></font></font></p>\n
LOCATION:Eldridge Park Diamond 01 Elmhurst\, IL 60126
UID:e.333.5576
SEQUENCE:3
DTSTAMP:20260422T113033Z
URL:https://chambermaster.elmhurstchamber.org/events/details/family-campout-09-21-2013-5576
END:VEVENT

END:VCALENDAR
