BEGIN:VCALENDAR
VERSION:2.0
PRODID:-//ChamberMaster//Event Calendar 2.0//EN
METHOD:PUBLISH
X-PUBLISHED-TTL:P3D
REFRESH-INTERVAL:P3D
CALSCALE:GREGORIAN
BEGIN:VEVENT
DTSTART:20121007T173000Z
DTEND:20121216T213000Z
X-MICROSOFT-CDO-ALLDAYEVENT:FALSE
SUMMARY:Family Open Gym
DESCRIPTION:Come drop-in for an afternoon of fun! This free program is part of a new cooperative effort between the Elmhurst Park District and Elmhurst School District 205. Play basketball\, soccer\, tag\, or other games of your choosing. Please note that parents are required to remain at the site with their children during this program! No class Nov. 25. \n\n	 \n\n	Fee: Free\n\n	Location: Churchville Middle School\n\n	Ages 4-14 with a parent
X-ALT-DESC;FMTTYPE=text/html:<p class="MsoNormal" style="margin: 0in 0in 0pt">\n	<span style="line-height: 115%\; font-family: 'cambria'\, 'serif'\; font-size: 12pt\; mso-ascii-theme-font: major-latin\; mso-hansi-theme-font: major-latin"><font color="#000000">Come drop-in for an afternoon of fun! This free program is part of a new cooperative effort between the Elmhurst Park District and Elmhurst School District 205. Play basketball\, soccer\, tag\, or other games of your choosing. Please note that parents are required to remain at the site with their children during this program! No class Nov. 25. <o:p></o:p></font></span></p>\n<p class="MsoNormal" style="margin: 0in 0in 0pt">\n	<span style="line-height: 115%\; font-family: 'cambria'\, 'serif'\; font-size: 12pt\; mso-ascii-theme-font: major-latin\; mso-hansi-theme-font: major-latin"><o:p><font color="#000000">&nbsp\;</font></o:p></span></p>\n<p class="MsoNormal" style="margin: 0in 0in 0pt">\n	<span style="line-height: 115%\; font-family: 'cambria'\, 'serif'\; font-size: 12pt\; mso-ascii-theme-font: major-latin\; mso-hansi-theme-font: major-latin"><font color="#000000">Fee: Free<o:p></o:p></font></span></p>\n<p class="MsoNormal" style="margin: 0in 0in 0pt">\n	<span style="line-height: 115%\; font-family: 'cambria'\, 'serif'\; font-size: 12pt\; mso-ascii-theme-font: major-latin\; mso-hansi-theme-font: major-latin"><font color="#000000">Location: Churchville Middle School<br />\n	Ages 4-14 with a parent</font></span></p>\n
LOCATION:Churchville Middle School 155 Victory Pkwy.
UID:e.333.4919
SEQUENCE:3
DTSTAMP:20260424T132015Z
URL:https://chambermaster.elmhurstchamber.org/events/details/family-open-gym-10-07-2012-4919
END:VEVENT

END:VCALENDAR
