BEGIN:VCALENDAR
VERSION:2.0
PRODID:-//ChamberMaster//Event Calendar 2.0//EN
METHOD:PUBLISH
X-PUBLISHED-TTL:P3D
REFRESH-INTERVAL:P3D
CALSCALE:GREGORIAN
BEGIN:VEVENT
DTSTART:20130113T190000Z
DTEND:20130113T220000Z
X-MICROSOFT-CDO-ALLDAYEVENT:FALSE
SUMMARY:Family Open Swim
DESCRIPTION:Jan. 13 & 20\, Feb. 10 & 24\, Mar. 10 & 24\n\nBring your family for a fun-filled time at York High School's swimming pool.  The pool will once again be available for Elmhurst Park District pool-pass holders and residents during the months of January\, February\, and March on the dates listed above.  Lap swimming\, open swim and diving boards will be available for use.  Come join us for some splashtacular fun!  If you have questions\, please call (630) 993-4724.
X-ALT-DESC;FMTTYPE=text/html:<br />\nJan. 13 &amp\; 20\, Feb. 10 &amp\; 24\, Mar. 10 &amp\; 24<br />\nBring your family for a fun-filled time at York High School&#39\;s swimming pool.&nbsp\; The pool will once again be available for Elmhurst Park District pool-pass holders and residents during the months of January\, February\, and March on the dates listed above.&nbsp\; Lap swimming\, open swim and diving boards will be available for use.&nbsp\; Come join us for some splashtacular fun!&nbsp\; If you have questions\, please call (630) 993-4724.
LOCATION:York High School
UID:e.333.5104
SEQUENCE:3
DTSTAMP:20260424T114429Z
URL:https://chambermaster.elmhurstchamber.org/events/details/family-open-swim-01-13-2013-5104
END:VEVENT

END:VCALENDAR
