BEGIN:VCALENDAR
VERSION:2.0
PRODID:-//ChamberMaster//Event Calendar 2.0//EN
METHOD:PUBLISH
X-PUBLISHED-TTL:P3D
REFRESH-INTERVAL:P3D
CALSCALE:GREGORIAN
BEGIN:VEVENT
DTSTART:20130921T150000Z
DTEND:20130921T180000Z
X-MICROSOFT-CDO-ALLDAYEVENT:FALSE
SUMMARY:Fishing Derby
DESCRIPTION:Ages 2-14\n\n	Come to the Elmhurst Park District's Annual Fishing Derby.  Only kids registered and up to the age of 14 are allowed to fish for prizes and all kids must have adult supervision.  Food and beverages will be available for purchase.  You must provide your own fishing pole.
X-ALT-DESC;FMTTYPE=text/html:<p class="MsoNormal" style="margin: 0in 0in 0pt 0.1in\;">\n	<font color="#000000" face="Calibri" size="3">Ages 2-14</font></p>\n<p class="MsoNormal" style="margin: 0in 0in 0pt 0.1in\;">\n	<font color="#000000" face="Calibri" size="3">Come to the Elmhurst Park District&rsquo\;s Annual Fishing Derby.<span style="mso-spacerun: yes\;">&nbsp\; </span>Only kids registered and up to the age of 14 are allowed to fish for prizes and all kids must have adult supervision.<span style="mso-spacerun: yes\;">&nbsp\; </span>Food and beverages will be available for purchase.<span style="mso-spacerun: yes\;">&nbsp\; </span>You must provide your own fishing pole.</font></p>\n
LOCATION:Eldridge Park Lagoon Elmhurst\, IL 60126
UID:e.333.5567
SEQUENCE:3
DTSTAMP:20260422T112018Z
URL:https://chambermaster.elmhurstchamber.org/events/details/fishing-derby-09-21-2013-5567
END:VEVENT

END:VCALENDAR
