BEGIN:VCALENDAR
VERSION:2.0
PRODID:-//ChamberMaster//Event Calendar 2.0//EN
METHOD:PUBLISH
X-PUBLISHED-TTL:P3D
REFRESH-INTERVAL:P3D
CALSCALE:GREGORIAN
BEGIN:VEVENT
DTSTART:20120922T150000Z
DTEND:20120922T180000Z
X-MICROSOFT-CDO-ALLDAYEVENT:FALSE
SUMMARY:Fishing Derby
DESCRIPTION:Get your hooks and bait ready and come to the Elmhurst Park District's Annual Fishing Derby. Only kids registered and up to 14 are allowed to fish for prizes and all kids must have adult supervision. Food and beverages will be available for purchase. You must provide your own fishing pole.
X-ALT-DESC;FMTTYPE=text/html:<p class="MsoNormal" style="margin: 0in 0in 0pt">\n	<span style="line-height: 115%\; font-family: 'cambria'\, 'serif'\; font-size: 12pt\; mso-ascii-theme-font: major-latin\; mso-hansi-theme-font: major-latin"><font color="#000000">Get your hooks and bait ready and come to the Elmhurst Park District&rsquo\;s Annual Fishing Derby. Only kids registered and up to 14 are allowed to fish for prizes and all kids must have adult supervision. Food and beverages will be available for purchase. You must provide your own fishing pole.<o:p></o:p></font></span></p>\n
LOCATION:Eldridge Park
UID:e.333.4902
SEQUENCE:3
DTSTAMP:20260424T175532Z
URL:https://chambermaster.elmhurstchamber.org/events/details/fishing-derby-09-22-2012-4902
END:VEVENT

END:VCALENDAR
