BEGIN:VCALENDAR
VERSION:2.0
PRODID:-//ChamberMaster//Event Calendar 2.0//EN
METHOD:PUBLISH
X-PUBLISHED-TTL:P3D
REFRESH-INTERVAL:P3D
CALSCALE:GREGORIAN
BEGIN:VEVENT
DTSTART:20110420T233000Z
DTEND:20110421T003000Z
X-MICROSOFT-CDO-ALLDAYEVENT:FALSE
SUMMARY:Fleet Feet Sports 5k Training program
DESCRIPTION:No Boundaries Couch to 5k Training Program\n\n\n\nThis Spring\, join Fleet Feet Sports and New Balance to walk or run your first 5k. The program focuses on beginners\, but all levels of walkers and runners are welcome. The program is structured to help you cross the finish line of your first 5k in less than three months. Along the way we'll be providing you with motivation to keep you moving\, guidance and advice\, weekly group training runs or walks\, and educational clinics on topics such as proper nutrition\, choosing the right gear\, and avoiding injury.\n\n\n\nPlus\, you'll have the camaraderie of others just like you.\n\n\n\n- Cost: $75 ($60 if signed up before February 15)\n\n\n\n- Meets Wednesdays @ 6:30pm at the store\n\n\n\n- Includes 10 weeks of coaching\, New Balance jacket and technical t-shirt\n\n\n\n- Ends June 25\, 2011 @ the Remembering Lauren 5k in Villa Park.\n\n\n\nEmail Tammy with questions.
X-ALT-DESC;FMTTYPE=text/html:No Boundaries Couch to 5k Training Program\n<br>\n<br>This Spring\, join Fleet Feet Sports and New Balance to walk or run your first 5k. The program focuses on beginners\, but all levels of walkers and runners are welcome. The program is structured to help you cross the finish line of your first 5k in less than three months. Along the way we'll be providing you with motivation to keep you moving\, guidance and advice\, weekly group training runs or walks\, and educational clinics on topics such as proper nutrition\, choosing the right gear\, and avoiding injury.\n<br>\n<br>Plus\, you'll have the camaraderie of others just like you.\n<br>\n<br>- Cost: $75 ($60 if signed up before February 15)\n<br>\n<br>- Meets Wednesdays @ 6:30pm at the store\n<br>\n<br>- Includes 10 weeks of coaching\, New Balance jacket and technical t-shirt\n<br>\n<br>- Ends June 25\, 2011 @ the Remembering Lauren 5k in Villa Park.\n<br>\n<br>Email Tammy with questions.\n<br>
LOCATION:Fleet Feet Sports 124 E. Schiller St. Elmhurst IL 60126
UID:e.333.3810
SEQUENCE:3
DTSTAMP:20260425T204619Z
URL:https://chambermaster.elmhurstchamber.org/events/details/fleet-feet-sports-5k-training-program-04-20-2011-3810
END:VEVENT

END:VCALENDAR
