BEGIN:VCALENDAR
VERSION:2.0
PRODID:-//ChamberMaster//Event Calendar 2.0//EN
METHOD:PUBLISH
X-PUBLISHED-TTL:P3D
REFRESH-INTERVAL:P3D
CALSCALE:GREGORIAN
BEGIN:VEVENT
DTSTART:20130720T120000Z
DTEND:20130720T210000Z
X-MICROSOFT-CDO-ALLDAYEVENT:FALSE
SUMMARY:Fossil Collecting Field Trip
DESCRIPTION:Travel by motor coach to 2 quarries in Illinois and Wisconsin. collect Ordovician Perios (450 million years old) marine fossils in dolomite limestone. Collectable fossils include: brachiopods\, cephalopods\, corals\, crinoids\, gastropods\, and more. Ages 8 yrs. to Adult $55 per person
X-ALT-DESC;FMTTYPE=text/html:Travel by motor coach to 2 quarries in Illinois and Wisconsin. collect Ordovician Perios (450 million years old) marine fossils in dolomite limestone. Collectable fossils include: brachiopods\, cephalopods\, corals\, crinoids\, gastropods\, and more. Ages 8 yrs. to Adult $55 per person 
LOCATION:Lizzadro Museum of Lapidary Art 220 Cottage Hill Elmhurst\, IL 60126
UID:e.333.5318
SEQUENCE:3
DTSTAMP:20260422T151418Z
URL:https://chambermaster.elmhurstchamber.org/events/details/fossil-collecting-field-trip-07-20-2013-5318
END:VEVENT

END:VCALENDAR
